Workbook
Name degrees: {0;90;180;270}

Sheet Introduction
B3: This spreadsheet is based on the top 100 astrophotography objects, compiled by Gary Imm. It enables one to specify date/time/timezone and limits regarding the field of view (azimuth, altitude). The objects that are visible will be highlighted.
F10: Source
D13: Compiled by: Anton Viola (Astronomy Morsels). | I13: Email
D15: Latest update: 07th November, 2024 | I15: V1.0
B39: All Rights Reserved: © Astronomy Morsels.
B40: I'm solely responsible for the input and express no warranty. Use at your own risk.
B41: Nonetheless, this spreadsheet has been carefully reviewed, and calculation results have been compared with other applications.

Sheet Visibility
B2: Date, time, and location | H2: Field of view limits (azimuth, altitude) | S2: Visible objects (based on criteria)
C3: Inputs | K3: min | L3: min | S3: =CONCATENATE("Date: ",TEXT(C4,"DD.MM.YYYY"),", Time: ",TEXT(C5,"HH:MM")) -> Date: 06.11.2024, Time: 20:00 | W3: =CONCATENATE("Moon: ",TEXT(Illumination!C8*100,"0.00"),"%") -> Moon: 25.40%
B4: Date | C4: 45602 | K4: 90 | L4: 15 | S4: =CONCATENATE("Latitude: ",TEXT(C13,"0.00"),", Longitude: ",TEXT(C14,"0.00")," (",C12,")") -> Latitude: 46.45, Longitude: 7.42 (Home) | W4: =CONCATENATE("# total: ",TEXT(100-COUNTBLANK(($G$8:$G$107)),"0")) -> # total: 15
B5: Time | C5: 0.83333333 | K5: max | L5: max | S5: =CONCATENATE("Limits: ",TEXT(K4,"0")," <= azimuth <= ",TEXT(K6,"0"),", ",TEXT(L4,"0")," <= altitude <= ",TEXT(L6,"0")) -> Limits: 90 <= azimuth <= 270, 15 <= altitude <= 90 | W5: =CONCATENATE("# selected: ",TEXT(100-COUNTBLANK(($S$8:$S$107)),"0")) -> # selected: 15
B6: Timezone | C6: 1 | K6: 270 | L6: 90
B7: Leap year? | C7: =IF(OR(MOD(YEAR(C4),400)=0,AND(MOD(YEAR(C4),4)=0,MOD(YEAR(C4),100)<>0)),"Y", "N") -> Y | H7: N# | I7: =C17 -> Observed? | J7: NGC | K7: Azimuth | L7: Altitude | M7: Common Name | N7: RA | O7: Decl | P7: HA | S7: N# | T7: =C17 -> Observed? | U7: NGC | V7: Azimuth | W7: Altitude | X7: Common Name | Y7: RA | Z7: Decl | AA7: HA
B8: Day nr. | C8: =INT(275*MONTH(C4)/9)-IF(C7="Y",1,2)*INT((MONTH(C4)+9)/12)+DAY(C4)-30 -> 311 | G8: =IF(AND(L8>=$L$4,L8<=$L$6,K8>=$K$4,K8<=$K$6),IF(VLOOKUP(I8,$C$19:$D$24,2,FALSE)="yes","*","-"),"") -> * | H8: 1 | I8: - | J8: M31 | K8: =IF(SIN($P$109*P8)<0,ACOS((SIN($P$109*O8)-SIN($P$109*L8)*SIN($P$109*$C$13))/(COS($P$109*L8)*COS($P$109*$C$13)))/$P$109,360-ACOS((SIN($P$109*O8)-SIN($P$109*L8)*SIN($P$109*$C$13))/(COS($P$109*L8)*COS($P$109*$C$13)))/$P$109) -> 91.277713 | L8: =ASIN(SIN($P$109*O8)*SIN($P$109*$C$13)+COS($P$109*O8)*COS($P$109*$C$13)*COS($P$109*P8))/$P$109 -> 66.700961 | M8: Andromeda Galaxy | N8: 0.71222222 | O8: 41.268889 | P8: =$C$16-((N8/24)*360) -> 328.25739 | R8: {=_xlfn._xlws.FILTER(G8:P107,G8:G107="*","")} -> * | S8: 1 | T8: - | U8: M31 | V8: 91.277713 | W8: 66.700961 | X8: Andromeda Galaxy | Y8: 0.71222222 | Z8: 41.268889 | AA8: 328.25739
B9: Weekday | C9: =IF(INT(MOD(C10+1.5,7))=1,"Monday",IF(INT(MOD(C10+1.5,7))=2,"Tuesday",IF(INT(MOD(C10+1.5,7))=3,"Wednesday",IF(INT(MOD(C10+1.5,7))=4,"Thursday",IF(INT(MOD(C10+1.5,7))=5,"Friday",IF(INT(MOD(C10+1.5,7))=6,"Saturday","Sunday")))))) -> Wednesday | G9: =IF(AND(L9>=$L$4,L9<=$L$6,K9>=$K$4,K9<=$K$6),IF(VLOOKUP(I9,$C$19:$D$24,2,FALSE)="yes","*","-"),"") -> * | H9: =H8+1 -> 2 | I9: - | J9: NGC 246 | K9: =IF(SIN($P$109*P9)<0,ACOS((SIN($P$109*O9)-SIN($P$109*L9)*SIN($P$109*$C$13))/(COS($P$109*L9)*COS($P$109*$C$13)))/$P$109,360-ACOS((SIN($P$109*O9)-SIN($P$109*L9)*SIN($P$109*$C$13))/(COS($P$109*L9)*COS($P$109*$C$13)))/$P$109) -> 143.48646 | L9: =ASIN(SIN($P$109*O9)*SIN($P$109*$C$13)+COS($P$109*O9)*COS($P$109*$C$13)*COS($P$109*P9))/$P$109 -> 26.265091 | M9: Skull Nebula | N9: 0.78416667 | O9: -10.128056 | P9: =$C$16-((N9/24)*360) -> 327.17822 | R9: * | S9: 2 | T9: - | U9: NGC 246 | V9: 143.48646 | W9: 26.265091 | X9: Skull Nebula | Y9: 0.78416667 | Z9: -10.128056 | AA9: 327.17822
B10: JDE | C10: =367*YEAR(C4)-INT(7/4*YEAR(C4))-INT(3*(INT((YEAR(C4)-8/7)/100)+1)/4)+1721059.5-1+C8+(3600*HOUR(C5)+60*MINUTE(C5)+SECOND(C5))/(24*3600) -> 2460621.3 | G10: =IF(AND(L10>=$L$4,L10<=$L$6,K10>=$K$4,K10<=$K$6),IF(VLOOKUP(I10,$C$19:$D$24,2,FALSE)="yes","*","-"),"") | H10: =H9+1 -> 3 | I10: - | J10: NGC 253 | K10: =IF(SIN($P$109*P10)<0,ACOS((SIN($P$109*O10)-SIN($P$109*L10)*SIN($P$109*$C$13))/(COS($P$109*L10)*COS($P$109*$C$13)))/$P$109,360-ACOS((SIN($P$109*O10)-SIN($P$109*L10)*SIN($P$109*$C$13))/(COS($P$109*L10)*COS($P$109*$C$13)))/$P$109) -> 149.55393 | L10: =ASIN(SIN($P$109*O10)*SIN($P$109*$C$13)+COS($P$109*O10)*COS($P$109*$C$13)*COS($P$109*P10))/$P$109 -> 12.840668 | M10: Sculptor Galaxy | N10: 0.7925 | O10: -24.711667 | P10: =$C$16-((N10/24)*360) -> 327.05322 | R10: * | S10: 6 | T10: - | U10: M33 | V10: 98.780721 | W10: 52.387896 | X10: Triangulum Galaxy | Y10: 1.5641667 | Z10: 30.660278 | AA10: 315.47822
B11: Delta days | C11: =C10-2451545 -> 9076.3333 | G11: =IF(AND(L11>=$L$4,L11<=$L$6,K11>=$K$4,K11<=$K$6),IF(VLOOKUP(I11,$C$19:$D$24,2,FALSE)="yes","*","-"),"") | H11: =H10+1 -> 4 | I11: - | J11: NGC 281 | K11: =IF(SIN($P$109*P11)<0,ACOS((SIN($P$109*O11)-SIN($P$109*L11)*SIN($P$109*$C$13))/(COS($P$109*L11)*COS($P$109*$C$13)))/$P$109,360-ACOS((SIN($P$109*O11)-SIN($P$109*L11)*SIN($P$109*$C$13))/(COS($P$109*L11)*COS($P$109*$C$13)))/$P$109) -> 51.564151 | L11: =ASIN(SIN($P$109*O11)*SIN($P$109*$C$13)+COS($P$109*O11)*COS($P$109*$C$13)*COS($P$109*P11))/$P$109 -> 66.696028 | M11: Pac-Man Nebula | N11: 0.88166667 | O11: 56.624722 | P11: =$C$16-((N11/24)*360) -> 325.71572 | R11: * | S11: 75 | T11: - | U11: M27 | V11: 246.45794 | W11: 50.673323 | X11: Dumbbell Nebula | Y11: 19.993333 | Z11: 22.720833 | AA11: 39.040721
B12: Location | C12: Home | G12: =IF(AND(L12>=$L$4,L12<=$L$6,K12>=$K$4,K12<=$K$6),IF(VLOOKUP(I12,$C$19:$D$24,2,FALSE)="yes","*","-"),"") | H12: =H11+1 -> 5 | I12: - | J12: NGC 457 | K12: =IF(SIN($P$109*P12)<0,ACOS((SIN($P$109*O12)-SIN($P$109*L12)*SIN($P$109*$C$13))/(COS($P$109*L12)*COS($P$109*$C$13)))/$P$109,360-ACOS((SIN($P$109*O12)-SIN($P$109*L12)*SIN($P$109*$C$13))/(COS($P$109*L12)*COS($P$109*$C$13)))/$P$109) -> 49.108216 | L12: =ASIN(SIN($P$109*O12)*SIN($P$109*$C$13)+COS($P$109*O12)*COS($P$109*$C$13)*COS($P$109*P12))/$P$109 -> 62.883701 | M12: ET Cluster | N12: 1.3263889 | O12: 58.286667 | P12: =$C$16-((N12/24)*360) -> 319.04489 | R12: * | S12: 76 | T12: - | U12: Sh2-101 | V12: 263.09474 | W12: 58.863077 | X12: Tulip Nebula | Y12: 19.998611 | Z12: 35.276667 | AA12: 38.961554
B13: φ (latitude) | C13: =VLOOKUP(C12,$B$29:$D$33,2,FALSE) -> 46.45 | G13: =IF(AND(L13>=$L$4,L13<=$L$6,K13>=$K$4,K13<=$K$6),IF(VLOOKUP(I13,$C$19:$D$24,2,FALSE)="yes","*","-"),"") -> * | H13: =H12+1 -> 6 | I13: - | J13: M33 | K13: =IF(SIN($P$109*P13)<0,ACOS((SIN($P$109*O13)-SIN($P$109*L13)*SIN($P$109*$C$13))/(COS($P$109*L13)*COS($P$109*$C$13)))/$P$109,360-ACOS((SIN($P$109*O13)-SIN($P$109*L13)*SIN($P$109*$C$13))/(COS($P$109*L13)*COS($P$109*$C$13)))/$P$109) -> 98.780721 | L13: =ASIN(SIN($P$109*O13)*SIN($P$109*$C$13)+COS($P$109*O13)*COS($P$109*$C$13)*COS($P$109*P13))/$P$109 -> 52.387896 | M13: Triangulum Galaxy | N13: 1.5641667 | O13: 30.660278 | P13: =$C$16-((N13/24)*360) -> 315.47822 | R13: * | S13: 77 | T13: - | U13: NGC 6888 | V13: 265.92588 | W13: 62.537788 | X13: Crescent Nebula | Y13: 20.201667 | Z13: 38.354722 | AA13: 35.915721
B14: L (longitude) | C14: =VLOOKUP(C12,$B$29:$D$33,3,FALSE) -> 7.42 | G14: =IF(AND(L14>=$L$4,L14<=$L$6,K14>=$K$4,K14<=$K$6),IF(VLOOKUP(I14,$C$19:$D$24,2,FALSE)="yes","*","-"),"") | H14: =H13+1 -> 7 | I14: - | J14: M76 | K14: =IF(SIN($P$109*P14)<0,ACOS((SIN($P$109*O14)-SIN($P$109*L14)*SIN($P$109*$C$13))/(COS($P$109*L14)*COS($P$109*$C$13)))/$P$109,360-ACOS((SIN($P$109*O14)-SIN($P$109*L14)*SIN($P$109*$C$13))/(COS($P$109*L14)*COS($P$109*$C$13)))/$P$109) -> 62.981738 | L14: =ASIN(SIN($P$109*O14)*SIN($P$109*$C$13)+COS($P$109*O14)*COS($P$109*$C$13)*COS($P$109*P14))/$P$109 -> 59.521723 | M14: Little Dumbbell Nebula | N14: 1.705 | O14: 51.570833 | P14: =$C$16-((N14/24)*360) -> 313.36572 | R14: * | S14: 78 | T14: - | U14: IC 1318 | V14: 267.73219 | W14: 65.15047 | X14: Gamma Cygni Nebula | Y14: 20.370556 | Z14: 40.256667 | AA14: 33.382388
B15: UT (hours) | C15: =MOD(HOUR(C5)+(MINUTE(C5)/60)+(SECOND(C5)/60)-C6,24) -> 19 | G15: =IF(AND(L15>=$L$4,L15<=$L$6,K15>=$K$4,K15<=$K$6),IF(VLOOKUP(I15,$C$19:$D$24,2,FALSE)="yes","*","-"),"") | H15: =H14+1 -> 8 | I15: - | J15: NGC 869 | K15: =IF(SIN($P$109*P15)<0,ACOS((SIN($P$109*O15)-SIN($P$109*L15)*SIN($P$109*$C$13))/(COS($P$109*L15)*COS($P$109*$C$13)))/$P$109,360-ACOS((SIN($P$109*O15)-SIN($P$109*L15)*SIN($P$109*$C$13))/(COS($P$109*L15)*COS($P$109*$C$13)))/$P$109) -> 51.460993 | L15: =ASIN(SIN($P$109*O15)*SIN($P$109*$C$13)+COS($P$109*O15)*COS($P$109*$C$13)*COS($P$109*P15))/$P$109 -> 54.972044 | M15: Double Cluster Duo | N15: 2.3166667 | O15: 57.128333 | P15: =$C$16-((N15/24)*360) -> 304.19072 | R15: * | S15: 79 | T15: - | U15: NGC 6960 | V15: 242.90893 | W15: 63.532701 | X15: Witch's Broom Nebula | Y15: 20.766111 | Z15: 30.595 | AA15: 27.449054
B16: LST (degrees) | C16: =MOD(100.46+0.985647*C11+C14+15*C15, 360) -> 338.94072 | G16: =IF(AND(L16>=$L$4,L16<=$L$6,K16>=$K$4,K16<=$K$6),IF(VLOOKUP(I16,$C$19:$D$24,2,FALSE)="yes","*","-"),"") | H16: =H15+1 -> 9 | I16: - | J16: Arp273 | K16: =IF(SIN($P$109*P16)<0,ACOS((SIN($P$109*O16)-SIN($P$109*L16)*SIN($P$109*$C$13))/(COS($P$109*L16)*COS($P$109*$C$13)))/$P$109,360-ACOS((SIN($P$109*O16)-SIN($P$109*L16)*SIN($P$109*$C$13))/(COS($P$109*L16)*COS($P$109*$C$13)))/$P$109) -> 78.846606 | L16: =ASIN(SIN($P$109*O16)*SIN($P$109*$C$13)+COS($P$109*O16)*COS($P$109*$C$13)*COS($P$109*P16))/$P$109 -> 48.94291 | M16: The Rose Galaxies | N16: 2.3588889 | O16: 39.35 | P16: =$C$16-((N16/24)*360) -> 303.55739 | R16: * | S16: 80 | T16: - | U16: NGC 6979 | V16: 243.75442 | W16: 65.217876 | X16: Pickering`s Triangle | Y16: 20.841111 | Z16: 32.026667 | AA16: 26.324054
B17: Marker name | C17: Observed? | G17: =IF(AND(L17>=$L$4,L17<=$L$6,K17>=$K$4,K17<=$K$6),IF(VLOOKUP(I17,$C$19:$D$24,2,FALSE)="yes","*","-"),"") | H17: =H16+1 -> 10 | I17: - | J17: IC 1805 | K17: =IF(SIN($P$109*P17)<0,ACOS((SIN($P$109*O17)-SIN($P$109*L17)*SIN($P$109*$C$13))/(COS($P$109*L17)*COS($P$109*$C$13)))/$P$109,360-ACOS((SIN($P$109*O17)-SIN($P$109*L17)*SIN($P$109*$C$13))/(COS($P$109*L17)*COS($P$109*$C$13)))/$P$109) -> 43.793922 | L17: =ASIN(SIN($P$109*O17)*SIN($P$109*$C$13)+COS($P$109*O17)*COS($P$109*$C$13)*COS($P$109*P17))/$P$109 -> 53.608752 | M17: Heart Nebula | N17: 2.5463889 | O17: 61.461667 | P17: =$C$16-((N17/24)*360) -> 300.74489 | R17: * | S17: 82 | T17: - | U17: NGC 6992 | V17: 241.17627 | W17: 65.91464 | X17: Eastern Veil Nebula | Y17: 20.938611 | Z17: 31.743333 | AA17: 24.861554
C18: values | D18: include? | E18: # | F18: perc. | G18: =IF(AND(L18>=$L$4,L18<=$L$6,K18>=$K$4,K18<=$K$6),IF(VLOOKUP(I18,$C$19:$D$24,2,FALSE)="yes","*","-"),"") | H18: =H17+1 -> 11 | I18: - | J18: IC 1848 | K18: =IF(SIN($P$109*P18)<0,ACOS((SIN($P$109*O18)-SIN($P$109*L18)*SIN($P$109*$C$13))/(COS($P$109*L18)*COS($P$109*$C$13)))/$P$109,360-ACOS((SIN($P$109*O18)-SIN($P$109*L18)*SIN($P$109*$C$13))/(COS($P$109*L18)*COS($P$109*$C$13)))/$P$109) -> 45.118093 | L18: =ASIN(SIN($P$109*O18)*SIN($P$109*$C$13)+COS($P$109*O18)*COS($P$109*$C$13)*COS($P$109*P18))/$P$109 -> 51.26097 | M18: Soul Nebula | N18: 2.855 | O18: 60.408333 | P18: =$C$16-((N18/24)*360) -> 296.11572 | R18: * | S18: 83 | T18: - | U18: Cygnus Loop | V18: 241.17627 | W18: 65.91464 | X18: Cygnus Loop | Y18: 20.938611 | Z18: 31.743333 | AA18: 24.861554
B19: Can for instance be used to indicate whether an object is of special interest | C19: - | D19: yes | E19: =COUNTIF($I$8:$I$107,C19) -> 100 | F19: =COUNTIF($I$8:$I$107,C19)/100 -> 1 | G19: =IF(AND(L19>=$L$4,L19<=$L$6,K19>=$K$4,K19<=$K$6),IF(VLOOKUP(I19,$C$19:$D$24,2,FALSE)="yes","*","-"),"") | H19: =H18+1 -> 12 | I19: - | J19: Abell426 | K19: =IF(SIN($P$109*P19)<0,ACOS((SIN($P$109*O19)-SIN($P$109*L19)*SIN($P$109*$C$13))/(COS($P$109*L19)*COS($P$109*$C$13)))/$P$109,360-ACOS((SIN($P$109*O19)-SIN($P$109*L19)*SIN($P$109*$C$13))/(COS($P$109*L19)*COS($P$109*$C$13)))/$P$109) -> 68.570729 | L19: =ASIN(SIN($P$109*O19)*SIN($P$109*$C$13)+COS($P$109*O19)*COS($P$109*$C$13)*COS($P$109*P19))/$P$109 -> 40.603868 | M19: Abell 426 Galaxy Cluster | N19: 3.31 | O19: 41.515 | P19: =$C$16-((N19/24)*360) -> 289.29072 | R19: * | S19: 87 | T19: - | U19: NGC 7009 | V19: 206.01665 | W19: 29.342696 | X19: Saturn Nebula | Y19: 21.069722 | Z19: -10.636111 | AA19: 22.894888
E20: =COUNTIF($I$8:$I$107,C20) -> 0 | F20: =COUNTIF($I$8:$I$107,C20)/100 -> 0 | G20: =IF(AND(L20>=$L$4,L20<=$L$6,K20>=$K$4,K20<=$K$6),IF(VLOOKUP(I20,$C$19:$D$24,2,FALSE)="yes","*","-"),"") | H20: =H19+1 -> 13 | I20: - | J20: NGC 1360 | K20: =IF(SIN($P$109*P20)<0,ACOS((SIN($P$109*O20)-SIN($P$109*L20)*SIN($P$109*$C$13))/(COS($P$109*L20)*COS($P$109*$C$13)))/$P$109,360-ACOS((SIN($P$109*O20)-SIN($P$109*L20)*SIN($P$109*$C$13))/(COS($P$109*L20)*COS($P$109*$C$13)))/$P$109) -> 117.61839 | L20: =ASIN(SIN($P$109*O20)*SIN($P$109*$C$13)+COS($P$109*O20)*COS($P$109*$C$13)*COS($P$109*P20))/$P$109 -> -7.2892037 | M20: Robins Egg Nebula | N20: 3.5541667 | O20: -24.128056 | P20: =$C$16-((N20/24)*360) -> 285.62822 | R20: * | S20: 94 | T20: - | U20: NGC 7293 | V20: 181.5891 | W20: 24.372303 | X20: Helix Nebula | Y20: 22.493889 | Z20: -19.163056 | AA20: 1.5323877
E21: =COUNTIF($I$8:$I$107,C21) -> 0 | F21: =COUNTIF($I$8:$I$107,C21)/100 -> 0 | G21: =IF(AND(L21>=$L$4,L21<=$L$6,K21>=$K$4,K21<=$K$6),IF(VLOOKUP(I21,$C$19:$D$24,2,FALSE)="yes","*","-"),"") | H21: =H20+1 -> 14 | I21: - | J21: M45 | K21: =IF(SIN($P$109*P21)<0,ACOS((SIN($P$109*O21)-SIN($P$109*L21)*SIN($P$109*$C$13))/(COS($P$109*L21)*COS($P$109*$C$13)))/$P$109,360-ACOS((SIN($P$109*O21)-SIN($P$109*L21)*SIN($P$109*$C$13))/(COS($P$109*L21)*COS($P$109*$C$13)))/$P$109) -> 80.882751 | L21: =ASIN(SIN($P$109*O21)*SIN($P$109*$C$13)+COS($P$109*O21)*COS($P$109*$C$13)*COS($P$109*P21))/$P$109 -> 25.314718 | M21: Pleiades | N21: 3.7916667 | O21: 24.116667 | P21: =$C$16-((N21/24)*360) -> 282.06572 | R21: * | S21: 95 | T21: - | U21: Arp 319 | V21: 179.70926 | W21: 77.483201 | X21: Stephan's Quintet | Y21: 22.601111 | Z21: 33.933333 | AA21: -0.075945667
E22: =COUNTIF($I$8:$I$107,C22) -> 0 | F22: =COUNTIF($I$8:$I$107,C22)/100 -> 0 | G22: =IF(AND(L22>=$L$4,L22<=$L$6,K22>=$K$4,K22<=$K$6),IF(VLOOKUP(I22,$C$19:$D$24,2,FALSE)="yes","*","-"),"") | H22: =H21+1 -> 15 | I22: - | J22: NGC 1499 | K22: =IF(SIN($P$109*P22)<0,ACOS((SIN($P$109*O22)-SIN($P$109*L22)*SIN($P$109*$C$13))/(COS($P$109*L22)*COS($P$109*$C$13)))/$P$109,360-ACOS((SIN($P$109*O22)-SIN($P$109*L22)*SIN($P$109*$C$13))/(COS($P$109*L22)*COS($P$109*$C$13)))/$P$109) -> 67.758774 | L22: =ASIN(SIN($P$109*O22)*SIN($P$109*$C$13)+COS($P$109*O22)*COS($P$109*$C$13)*COS($P$109*P22))/$P$109 -> 30.546478 | M22: California Nebula | N22: 4.0538889 | O22: 36.366667 | P22: =$C$16-((N22/24)*360) -> 278.13239 | R22: * | S22: 96 | T22: - | U22: NGC 7331 | V22: 178.71049 | W22: 77.963306 | X22: Deer Lick Galaxy Group | Y22: 22.617778 | Z22: 34.415833 | AA22: -0.32594567
E23: =COUNTIF($I$8:$I$107,C23) -> 0 | F23: =COUNTIF($I$8:$I$107,C23)/100 -> 0 | G23: =IF(AND(L23>=$L$4,L23<=$L$6,K23>=$K$4,K23<=$K$6),IF(VLOOKUP(I23,$C$19:$D$24,2,FALSE)="yes","*","-"),"") | H23: =H22+1 -> 16 | I23: - | J23: NGC 1514 | K23: =IF(SIN($P$109*P23)<0,ACOS((SIN($P$109*O23)-SIN($P$109*L23)*SIN($P$109*$C$13))/(COS($P$109*L23)*COS($P$109*$C$13)))/$P$109,360-ACOS((SIN($P$109*O23)-SIN($P$109*L23)*SIN($P$109*$C$13))/(COS($P$109*L23)*COS($P$109*$C$13)))/$P$109) -> 71.7906 | L23: =ASIN(SIN($P$109*O23)*SIN($P$109*$C$13)+COS($P$109*O23)*COS($P$109*$C$13)*COS($P$109*P23))/$P$109 -> 26.046145 | M23: Crystal Ball Nebula | N23: 4.1547222 | O23: 30.775833 | P23: =$C$16-((N23/24)*360) -> 276.61989
E24: =COUNTIF($I$8:$I$107,C24) -> 0 | F24: =COUNTIF($I$8:$I$107,C24)/100 -> 0 | G24: =IF(AND(L24>=$L$4,L24<=$L$6,K24>=$K$4,K24<=$K$6),IF(VLOOKUP(I24,$C$19:$D$24,2,FALSE)="yes","*","-"),"") | H24: =H23+1 -> 17 | I24: - | J24: NGC 1532 | K24: =IF(SIN($P$109*P24)<0,ACOS((SIN($P$109*O24)-SIN($P$109*L24)*SIN($P$109*$C$13))/(COS($P$109*L24)*COS($P$109*$C$13)))/$P$109,360-ACOS((SIN($P$109*O24)-SIN($P$109*L24)*SIN($P$109*$C$13))/(COS($P$109*L24)*COS($P$109*$C$13)))/$P$109) -> 116.26595 | L24: =ASIN(SIN($P$109*O24)*SIN($P$109*$C$13)+COS($P$109*O24)*COS($P$109*$C$13)*COS($P$109*P24))/$P$109 -> -18.287154 | M24: Eridanus Interacting Galaxy Duo | N24: 4.2011111 | O24: -31.126111 | P24: =$C$16-((N24/24)*360) -> 275.92405
E25: =SUM(E19:E24) -> 100 | F25: =SUM(F19:F24) -> 1 | G25: =IF(AND(L25>=$L$4,L25<=$L$6,K25>=$K$4,K25<=$K$6),IF(VLOOKUP(I25,$C$19:$D$24,2,FALSE)="yes","*","-"),"") | H25: =H24+1 -> 18 | I25: - | J25: IC 2118 | K25: =IF(SIN($P$109*P25)<0,ACOS((SIN($P$109*O25)-SIN($P$109*L25)*SIN($P$109*$C$13))/(COS($P$109*L25)*COS($P$109*$C$13)))/$P$109,360-ACOS((SIN($P$109*O25)-SIN($P$109*L25)*SIN($P$109*$C$13))/(COS($P$109*L25)*COS($P$109*$C$13)))/$P$109) -> 89.402257 | L25: =ASIN(SIN($P$109*O25)*SIN($P$109*$C$13)+COS($P$109*O25)*COS($P$109*$C$13)*COS($P$109*P25))/$P$109 -> -9.9006826 | M25: Witch Head Nebula | N25: 5.0816667 | O25: -6.75 | P25: =$C$16-((N25/24)*360) -> 262.71572
G26: =IF(AND(L26>=$L$4,L26<=$L$6,K26>=$K$4,K26<=$K$6),IF(VLOOKUP(I26,$C$19:$D$24,2,FALSE)="yes","*","-"),"") | H26: =H25+1 -> 19 | I26: - | J26: IC 405 | K26: =IF(SIN($P$109*P26)<0,ACOS((SIN($P$109*O26)-SIN($P$109*L26)*SIN($P$109*$C$13))/(COS($P$109*L26)*COS($P$109*$C$13)))/$P$109,360-ACOS((SIN($P$109*O26)-SIN($P$109*L26)*SIN($P$109*$C$13))/(COS($P$109*L26)*COS($P$109*$C$13)))/$P$109) -> 58.672148 | L26: =ASIN(SIN($P$109*O26)*SIN($P$109*$C$13)+COS($P$109*O26)*COS($P$109*$C$13)*COS($P$109*P26))/$P$109 -> 17.968343 | M26: Flaming Star Nebula | N26: 5.2747222 | O26: 34.356667 | P26: =$C$16-((N26/24)*360) -> 259.81989
B27: Locations | G27: =IF(AND(L27>=$L$4,L27<=$L$6,K27>=$K$4,K27<=$K$6),IF(VLOOKUP(I27,$C$19:$D$24,2,FALSE)="yes","*","-"),"") | H27: =H26+1 -> 20 | I27: - | J27: IC 410 | K27: =IF(SIN($P$109*P27)<0,ACOS((SIN($P$109*O27)-SIN($P$109*L27)*SIN($P$109*$C$13))/(COS($P$109*L27)*COS($P$109*$C$13)))/$P$109,360-ACOS((SIN($P$109*O27)-SIN($P$109*L27)*SIN($P$109*$C$13))/(COS($P$109*L27)*COS($P$109*$C$13)))/$P$109) -> 58.409989 | L27: =ASIN(SIN($P$109*O27)*SIN($P$109*$C$13)+COS($P$109*O27)*COS($P$109*$C$13)*COS($P$109*P27))/$P$109 -> 16.386189 | M27: Tadpole Nebula | N27: 5.3788889 | O27: 33.416667 | P27: =$C$16-((N27/24)*360) -> 258.25739
B28: Name | C28: φ (latitude) | D28: L (longitude) | G28: =IF(AND(L28>=$L$4,L28<=$L$6,K28>=$K$4,K28<=$K$6),IF(VLOOKUP(I28,$C$19:$D$24,2,FALSE)="yes","*","-"),"") | H28: =H27+1 -> 21 | I28: - | J28: IC 417 | K28: =IF(SIN($P$109*P28)<0,ACOS((SIN($P$109*O28)-SIN($P$109*L28)*SIN($P$109*$C$13))/(COS($P$109*L28)*COS($P$109*$C$13)))/$P$109,360-ACOS((SIN($P$109*O28)-SIN($P$109*L28)*SIN($P$109*$C$13))/(COS($P$109*L28)*COS($P$109*$C$13)))/$P$109) -> 56.847136 | L28: =ASIN(SIN($P$109*O28)*SIN($P$109*$C$13)+COS($P$109*O28)*COS($P$109*$C$13)*COS($P$109*P28))/$P$109 -> 16.323166 | M28: Spider and the Fly | N28: 5.4683333 | O28: 34.423333 | P28: =$C$16-((N28/24)*360) -> 256.91572
B29: Home | C29: 46.45 | D29: 7.42 | G29: =IF(AND(L29>=$L$4,L29<=$L$6,K29>=$K$4,K29<=$K$6),IF(VLOOKUP(I29,$C$19:$D$24,2,FALSE)="yes","*","-"),"") | H29: =H28+1 -> 22 | I29: - | J29: M1 | K29: =IF(SIN($P$109*P29)<0,ACOS((SIN($P$109*O29)-SIN($P$109*L29)*SIN($P$109*$C$13))/(COS($P$109*L29)*COS($P$109*$C$13)))/$P$109,360-ACOS((SIN($P$109*O29)-SIN($P$109*L29)*SIN($P$109*$C$13))/(COS($P$109*L29)*COS($P$109*$C$13)))/$P$109) -> 64.45085 | L29: =ASIN(SIN($P$109*O29)*SIN($P$109*$C$13)+COS($P$109*O29)*COS($P$109*$C$13)*COS($P$109*P29))/$P$109 -> 6.2960251 | M29: Crab Nebula | N29: 5.5755556 | O29: 22.014444 | P29: =$C$16-((N29/24)*360) -> 255.30739
G30: =IF(AND(L30>=$L$4,L30<=$L$6,K30>=$K$4,K30<=$K$6),IF(VLOOKUP(I30,$C$19:$D$24,2,FALSE)="yes","*","-"),"") | H30: =H29+1 -> 23 | I30: - | J30: M42 | K30: =IF(SIN($P$109*P30)<0,ACOS((SIN($P$109*O30)-SIN($P$109*L30)*SIN($P$109*$C$13))/(COS($P$109*L30)*COS($P$109*$C$13)))/$P$109,360-ACOS((SIN($P$109*O30)-SIN($P$109*L30)*SIN($P$109*$C$13))/(COS($P$109*L30)*COS($P$109*$C$13)))/$P$109) -> 82.309146 | L30: =ASIN(SIN($P$109*O30)*SIN($P$109*$C$13)+COS($P$109*O30)*COS($P$109*$C$13)*COS($P$109*P30))/$P$109 -> -13.565579 | M30: Orion Nebula | N30: 5.5877778 | O30: -4.6097222 | P30: =$C$16-((N30/24)*360) -> 255.12405
G31: =IF(AND(L31>=$L$4,L31<=$L$6,K31>=$K$4,K31<=$K$6),IF(VLOOKUP(I31,$C$19:$D$24,2,FALSE)="yes","*","-"),"") | H31: =H30+1 -> 24 | I31: - | J31: IC 434 | K31: =IF(SIN($P$109*P31)<0,ACOS((SIN($P$109*O31)-SIN($P$109*L31)*SIN($P$109*$C$13))/(COS($P$109*L31)*COS($P$109*$C$13)))/$P$109,360-ACOS((SIN($P$109*O31)-SIN($P$109*L31)*SIN($P$109*$C$13))/(COS($P$109*L31)*COS($P$109*$C$13)))/$P$109) -> 79.093756 | L31: =ASIN(SIN($P$109*O31)*SIN($P$109*$C$13)+COS($P$109*O31)*COS($P$109*$C$13)*COS($P$109*P31))/$P$109 -> -12.296745 | M31: Horsehead Nebula | N31: 5.6833333 | O31: -1.5466667 | P31: =$C$16-((N31/24)*360) -> 253.69072
G32: =IF(AND(L32>=$L$4,L32<=$L$6,K32>=$K$4,K32<=$K$6),IF(VLOOKUP(I32,$C$19:$D$24,2,FALSE)="yes","*","-"),"") | H32: =H31+1 -> 25 | I32: - | J32: NGC 2024 | K32: =IF(SIN($P$109*P32)<0,ACOS((SIN($P$109*O32)-SIN($P$109*L32)*SIN($P$109*$C$13))/(COS($P$109*L32)*COS($P$109*$C$13)))/$P$109,360-ACOS((SIN($P$109*O32)-SIN($P$109*L32)*SIN($P$109*$C$13))/(COS($P$109*L32)*COS($P$109*$C$13)))/$P$109) -> 77.993569 | L32: =ASIN(SIN($P$109*O32)*SIN($P$109*$C$13)+COS($P$109*O32)*COS($P$109*$C$13)*COS($P$109*P32))/$P$109 -> -11.379945 | M32: Flame Nebula | N32: 5.695 | O32: -0.14333333 | P32: =$C$16-((N32/24)*360) -> 253.51572
G33: =IF(AND(L33>=$L$4,L33<=$L$6,K33>=$K$4,K33<=$K$6),IF(VLOOKUP(I33,$C$19:$D$24,2,FALSE)="yes","*","-"),"") | H33: =H32+1 -> 26 | I33: - | J33: M78 | K33: =IF(SIN($P$109*P33)<0,ACOS((SIN($P$109*O33)-SIN($P$109*L33)*SIN($P$109*$C$13))/(COS($P$109*L33)*COS($P$109*$C$13)))/$P$109,360-ACOS((SIN($P$109*O33)-SIN($P$109*L33)*SIN($P$109*$C$13))/(COS($P$109*L33)*COS($P$109*$C$13)))/$P$109) -> 76.885888 | L33: =ASIN(SIN($P$109*O33)*SIN($P$109*$C$13)+COS($P$109*O33)*COS($P$109*$C$13)*COS($P$109*P33))/$P$109 -> -12.063672 | M33: Orion Reflection Nebula | N33: 5.7791667 | O33: 0.08 | P33: =$C$16-((N33/24)*360) -> 252.25322
G34: =IF(AND(L34>=$L$4,L34<=$L$6,K34>=$K$4,K34<=$K$6),IF(VLOOKUP(I34,$C$19:$D$24,2,FALSE)="yes","*","-"),"") | H34: =H33+1 -> 27 | I34: - | J34: Sh2-261 | K34: =IF(SIN($P$109*P34)<0,ACOS((SIN($P$109*O34)-SIN($P$109*L34)*SIN($P$109*$C$13))/(COS($P$109*L34)*COS($P$109*$C$13)))/$P$109,360-ACOS((SIN($P$109*O34)-SIN($P$109*L34)*SIN($P$109*$C$13))/(COS($P$109*L34)*COS($P$109*$C$13)))/$P$109) -> 62.44918 | L34: =ASIN(SIN($P$109*O34)*SIN($P$109*$C$13)+COS($P$109*O34)*COS($P$109*$C$13)*COS($P$109*P34))/$P$109 -> -3.7820106 | M34: Lower's Nebula | N34: 6.1455556 | O34: 15.675 | P34: =$C$16-((N34/24)*360) -> 246.75739
G35: =IF(AND(L35>=$L$4,L35<=$L$6,K35>=$K$4,K35<=$K$6),IF(VLOOKUP(I35,$C$19:$D$24,2,FALSE)="yes","*","-"),"") | H35: =H34+1 -> 28 | I35: - | J35: IC 443 | K35: =IF(SIN($P$109*P35)<0,ACOS((SIN($P$109*O35)-SIN($P$109*L35)*SIN($P$109*$C$13))/(COS($P$109*L35)*COS($P$109*$C$13)))/$P$109,360-ACOS((SIN($P$109*O35)-SIN($P$109*L35)*SIN($P$109*$C$13))/(COS($P$109*L35)*COS($P$109*$C$13)))/$P$109) -> 56.69967 | L35: =ASIN(SIN($P$109*O35)*SIN($P$109*$C$13)+COS($P$109*O35)*COS($P$109*$C$13)*COS($P$109*P35))/$P$109 -> 0.37052556 | M35: Jellyfish Nebula | N35: 6.2766667 | O35: 22.516667 | P35: =$C$16-((N35/24)*360) -> 244.79072
B36: =CONCATENATE("Moon's illuminated fraction: ",TEXT(Illumination!C8*100,"0.00"),"%") -> Moon's illuminated fraction: 25.40% | G36: =IF(AND(L36>=$L$4,L36<=$L$6,K36>=$K$4,K36<=$K$6),IF(VLOOKUP(I36,$C$19:$D$24,2,FALSE)="yes","*","-"),"") | H36: =H35+1 -> 29 | I36: - | J36: NGC 2237 | K36: =IF(SIN($P$109*P36)<0,ACOS((SIN($P$109*O36)-SIN($P$109*L36)*SIN($P$109*$C$13))/(COS($P$109*L36)*COS($P$109*$C$13)))/$P$109,360-ACOS((SIN($P$109*O36)-SIN($P$109*L36)*SIN($P$109*$C$13))/(COS($P$109*L36)*COS($P$109*$C$13)))/$P$109) -> 64.936546 | L36: =ASIN(SIN($P$109*O36)*SIN($P$109*$C$13)+COS($P$109*O36)*COS($P$109*$C$13)*COS($P$109*P36))/$P$109 -> -15.466237 | M36: Rosette Nebula | N36: 6.515 | O36: 5.05 | P36: =$C$16-((N36/24)*360) -> 241.21572
G37: =IF(AND(L37>=$L$4,L37<=$L$6,K37>=$K$4,K37<=$K$6),IF(VLOOKUP(I37,$C$19:$D$24,2,FALSE)="yes","*","-"),"") | H37: =H36+1 -> 30 | I37: - | J37: NGC 2261 | K37: =IF(SIN($P$109*P37)<0,ACOS((SIN($P$109*O37)-SIN($P$109*L37)*SIN($P$109*$C$13))/(COS($P$109*L37)*COS($P$109*$C$13)))/$P$109,360-ACOS((SIN($P$109*O37)-SIN($P$109*L37)*SIN($P$109*$C$13))/(COS($P$109*L37)*COS($P$109*$C$13)))/$P$109) -> 60.909783 | L37: =ASIN(SIN($P$109*O37)*SIN($P$109*$C$13)+COS($P$109*O37)*COS($P$109*$C$13)*COS($P$109*P37))/$P$109 -> -13.828986 | M37: Hubble's Variable Nebula | N37: 6.6527778 | O37: 8.7444444 | P37: =$C$16-((N37/24)*360) -> 239.14905
G38: =IF(AND(L38>=$L$4,L38<=$L$6,K38>=$K$4,K38<=$K$6),IF(VLOOKUP(I38,$C$19:$D$24,2,FALSE)="yes","*","-"),"") | H38: =H37+1 -> 31 | I38: - | J38: NGC 2264 | K38: =IF(SIN($P$109*P38)<0,ACOS((SIN($P$109*O38)-SIN($P$109*L38)*SIN($P$109*$C$13))/(COS($P$109*L38)*COS($P$109*$C$13)))/$P$109,360-ACOS((SIN($P$109*O38)-SIN($P$109*L38)*SIN($P$109*$C$13))/(COS($P$109*L38)*COS($P$109*$C$13)))/$P$109) -> 59.828684 | L38: =ASIN(SIN($P$109*O38)*SIN($P$109*$C$13)+COS($P$109*O38)*COS($P$109*$C$13)*COS($P$109*P38))/$P$109 -> -13.184042 | M38: Christmas Tree Cluster | N38: 6.6827778 | O38: 9.895 | P38: =$C$16-((N38/24)*360) -> 238.69905
G39: =IF(AND(L39>=$L$4,L39<=$L$6,K39>=$K$4,K39<=$K$6),IF(VLOOKUP(I39,$C$19:$D$24,2,FALSE)="yes","*","-"),"") | H39: =H38+1 -> 32 | I39: - | J39: Sh2-308 | K39: =IF(SIN($P$109*P39)<0,ACOS((SIN($P$109*O39)-SIN($P$109*L39)*SIN($P$109*$C$13))/(COS($P$109*L39)*COS($P$109*$C$13)))/$P$109,360-ACOS((SIN($P$109*O39)-SIN($P$109*L39)*SIN($P$109*$C$13))/(COS($P$109*L39)*COS($P$109*$C$13)))/$P$109) -> 80.90527 | L39: =ASIN(SIN($P$109*O39)*SIN($P$109*$C$13)+COS($P$109*O39)*COS($P$109*$C$13)*COS($P$109*P39))/$P$109 -> -39.38224 | M39: Gourd Nebula | N39: 6.9 | O39: -22.066667 | P39: =$C$16-((N39/24)*360) -> 235.44072
G40: =IF(AND(L40>=$L$4,L40<=$L$6,K40>=$K$4,K40<=$K$6),IF(VLOOKUP(I40,$C$19:$D$24,2,FALSE)="yes","*","-"),"") | H40: =H39+1 -> 33 | I40: - | J40: NGC 2327 | K40: =IF(SIN($P$109*P40)<0,ACOS((SIN($P$109*O40)-SIN($P$109*L40)*SIN($P$109*$C$13))/(COS($P$109*L40)*COS($P$109*$C$13)))/$P$109,360-ACOS((SIN($P$109*O40)-SIN($P$109*L40)*SIN($P$109*$C$13))/(COS($P$109*L40)*COS($P$109*$C$13)))/$P$109) -> 68.946839 | L40: =ASIN(SIN($P$109*O40)*SIN($P$109*$C$13)+COS($P$109*O40)*COS($P$109*$C$13)*COS($P$109*P40))/$P$109 -> -32.866256 | M40: Seagull Nebula | N40: 7.0686111 | O40: -10.686111 | P40: =$C$16-((N40/24)*360) -> 232.91155
G41: =IF(AND(L41>=$L$4,L41<=$L$6,K41>=$K$4,K41<=$K$6),IF(VLOOKUP(I41,$C$19:$D$24,2,FALSE)="yes","*","-"),"") | H41: =H40+1 -> 34 | I41: - | J41: NGC 2359 | K41: =IF(SIN($P$109*P41)<0,ACOS((SIN($P$109*O41)-SIN($P$109*L41)*SIN($P$109*$C$13))/(COS($P$109*L41)*COS($P$109*$C$13)))/$P$109,360-ACOS((SIN($P$109*O41)-SIN($P$109*L41)*SIN($P$109*$C$13))/(COS($P$109*L41)*COS($P$109*$C$13)))/$P$109) -> 67.360048 | L41: =ASIN(SIN($P$109*O41)*SIN($P$109*$C$13)+COS($P$109*O41)*COS($P$109*$C$13)*COS($P$109*P41))/$P$109 -> -36.74627 | M41: Thor’s Helmet | N41: 7.3083333 | O41: -12.773333 | P41: =$C$16-((N41/24)*360) -> 229.31572
G42: =IF(AND(L42>=$L$4,L42<=$L$6,K42>=$K$4,K42<=$K$6),IF(VLOOKUP(I42,$C$19:$D$24,2,FALSE)="yes","*","-"),"") | H42: =H41+1 -> 35 | I42: - | J42: Abell 21 | K42: =IF(SIN($P$109*P42)<0,ACOS((SIN($P$109*O42)-SIN($P$109*L42)*SIN($P$109*$C$13))/(COS($P$109*L42)*COS($P$109*$C$13)))/$P$109,360-ACOS((SIN($P$109*O42)-SIN($P$109*L42)*SIN($P$109*$C$13))/(COS($P$109*L42)*COS($P$109*$C$13)))/$P$109) -> 47.809146 | L42: =ASIN(SIN($P$109*O42)*SIN($P$109*$C$13)+COS($P$109*O42)*COS($P$109*$C$13)*COS($P$109*P42))/$P$109 -> -17.100928 | M42: Medusa Nebula | N42: 7.4841667 | O42: 13.246667 | P42: =$C$16-((N42/24)*360) -> 226.67822
G43: =IF(AND(L43>=$L$4,L43<=$L$6,K43>=$K$4,K43<=$K$6),IF(VLOOKUP(I43,$C$19:$D$24,2,FALSE)="yes","*","-"),"") | H43: =H42+1 -> 36 | I43: - | J43: NGC 2392 | K43: =IF(SIN($P$109*P43)<0,ACOS((SIN($P$109*O43)-SIN($P$109*L43)*SIN($P$109*$C$13))/(COS($P$109*L43)*COS($P$109*$C$13)))/$P$109,360-ACOS((SIN($P$109*O43)-SIN($P$109*L43)*SIN($P$109*$C$13))/(COS($P$109*L43)*COS($P$109*$C$13)))/$P$109) -> 43.701901 | L43: =ASIN(SIN($P$109*O43)*SIN($P$109*$C$13)+COS($P$109*O43)*COS($P$109*$C$13)*COS($P$109*P43))/$P$109 -> -10.553547 | M43: Eskimo Nebula | N43: 7.4863889 | O43: 20.911667 | P43: =$C$16-((N43/24)*360) -> 226.64489
G44: =IF(AND(L44>=$L$4,L44<=$L$6,K44>=$K$4,K44<=$K$6),IF(VLOOKUP(I44,$C$19:$D$24,2,FALSE)="yes","*","-"),"") | H44: =H43+1 -> 37 | I44: - | J44: NGC 2467 | K44: =IF(SIN($P$109*P44)<0,ACOS((SIN($P$109*O44)-SIN($P$109*L44)*SIN($P$109*$C$13))/(COS($P$109*L44)*COS($P$109*$C$13)))/$P$109,360-ACOS((SIN($P$109*O44)-SIN($P$109*L44)*SIN($P$109*$C$13))/(COS($P$109*L44)*COS($P$109*$C$13)))/$P$109) -> 71.496688 | L44: =ASIN(SIN($P$109*O44)*SIN($P$109*$C$13)+COS($P$109*O44)*COS($P$109*$C$13)*COS($P$109*P44))/$P$109 -> -51.537935 | M44: Skull & Crossbones Nebula | N44: 7.8738889 | O44: -25.563333 | P44: =$C$16-((N44/24)*360) -> 220.83239
G45: =IF(AND(L45>=$L$4,L45<=$L$6,K45>=$K$4,K45<=$K$6),IF(VLOOKUP(I45,$C$19:$D$24,2,FALSE)="yes","*","-"),"") | H45: =H44+1 -> 38 | I45: - | J45: Jones-Emberson 1 | K45: =IF(SIN($P$109*P45)<0,ACOS((SIN($P$109*O45)-SIN($P$109*L45)*SIN($P$109*$C$13))/(COS($P$109*L45)*COS($P$109*$C$13)))/$P$109,360-ACOS((SIN($P$109*O45)-SIN($P$109*L45)*SIN($P$109*$C$13))/(COS($P$109*L45)*COS($P$109*$C$13)))/$P$109) -> 23.132888 | L45: =ASIN(SIN($P$109*O45)*SIN($P$109*$C$13)+COS($P$109*O45)*COS($P$109*$C$13)*COS($P$109*P45))/$P$109 -> 15.365625 | M45: Headphone Nebula | N45: 7.965 | O45: 53.416667 | P45: =$C$16-((N45/24)*360) -> 219.46572
G46: =IF(AND(L46>=$L$4,L46<=$L$6,K46>=$K$4,K46<=$K$6),IF(VLOOKUP(I46,$C$19:$D$24,2,FALSE)="yes","*","-"),"") | H46: =H45+1 -> 39 | I46: - | J46: Vela Bridge | K46: =IF(SIN($P$109*P46)<0,ACOS((SIN($P$109*O46)-SIN($P$109*L46)*SIN($P$109*$C$13))/(COS($P$109*L46)*COS($P$109*$C$13)))/$P$109,360-ACOS((SIN($P$109*O46)-SIN($P$109*L46)*SIN($P$109*$C$13))/(COS($P$109*L46)*COS($P$109*$C$13)))/$P$109) -> 86.34548 | L46: =ASIN(SIN($P$109*O46)*SIN($P$109*$C$13)+COS($P$109*O46)*COS($P$109*$C$13)*COS($P$109*P46))/$P$109 -> -68.12043 | M46: Vela Bridge Nebula | N46: 8.6275 | O46: -41.010833 | P46: =$C$16-((N46/24)*360) -> 209.52822
G47: =IF(AND(L47>=$L$4,L47<=$L$6,K47>=$K$4,K47<=$K$6),IF(VLOOKUP(I47,$C$19:$D$24,2,FALSE)="yes","*","-"),"") | H47: =H46+1 -> 40 | I47: - | J47: Vela Spiral Flame | K47: =IF(SIN($P$109*P47)<0,ACOS((SIN($P$109*O47)-SIN($P$109*L47)*SIN($P$109*$C$13))/(COS($P$109*L47)*COS($P$109*$C$13)))/$P$109,360-ACOS((SIN($P$109*O47)-SIN($P$109*L47)*SIN($P$109*$C$13))/(COS($P$109*L47)*COS($P$109*$C$13)))/$P$109) -> 85.829548 | L47: =ASIN(SIN($P$109*O47)*SIN($P$109*$C$13)+COS($P$109*O47)*COS($P$109*$C$13)*COS($P$109*P47))/$P$109 -> -71.441024 | M47: Vela Spiral Flame Nebula | N47: 8.9058333 | O47: -42.154722 | P47: =$C$16-((N47/24)*360) -> 205.35322
G48: =IF(AND(L48>=$L$4,L48<=$L$6,K48>=$K$4,K48<=$K$6),IF(VLOOKUP(I48,$C$19:$D$24,2,FALSE)="yes","*","-"),"") | H48: =H47+1 -> 41 | I48: - | J48: Vela Pencil | K48: =IF(SIN($P$109*P48)<0,ACOS((SIN($P$109*O48)-SIN($P$109*L48)*SIN($P$109*$C$13))/(COS($P$109*L48)*COS($P$109*$C$13)))/$P$109,360-ACOS((SIN($P$109*O48)-SIN($P$109*L48)*SIN($P$109*$C$13))/(COS($P$109*L48)*COS($P$109*$C$13)))/$P$109) -> 90.558381 | L48: =ASIN(SIN($P$109*O48)*SIN($P$109*$C$13)+COS($P$109*O48)*COS($P$109*$C$13)*COS($P$109*P48))/$P$109 -> -73.090308 | M48: Vela Pencil Nebula | N48: 9.0044444 | O48: -44.058333 | P48: =$C$16-((N48/24)*360) -> 203.87405
... G54: =IF(AND(L54>=$L$4,L54<=$L$6,K54>=$K$4,K54<=$K$6),IF(VLOOKUP(I54,$C$19:$D$24,2,FALSE)="yes","*","-"),"") | H54: =H53+1 -> 47 | I54: - | J54: M65 | K54: =IF(SIN($P$109*P54)<0,ACOS((SIN($P$109*O54)-SIN($P$109*L54)*SIN($P$109*$C$13))/(COS($P$109*L54)*COS($P$109*$C$13)))/$P$109,360-ACOS((SIN($P$109*O54)-SIN($P$109*L54)*SIN($P$109*$C$13))/(COS($P$109*L54)*COS($P$109*$C$13)))/$P$109) -> 347.88275 | L54: =ASIN(SIN($P$109*O54)*SIN($P$109*$C$13)+COS($P$109*O54)*COS($P$109*$C$13)*COS($P$109*P54))/$P$109 -> -29.672191 | M54: Leo Galaxy Duo | N54: 11.315556 | O54: 13.091944 | P54: =$C$16-((N54/24)*360) -> 169.20739
B55: yes | G55: =IF(AND(L55>=$L$4,L55<=$L$6,K55>=$K$4,K55<=$K$6),IF(VLOOKUP(I55,$C$19:$D$24,2,FALSE)="yes","*","-"),"") | H55: =H54+1 -> 48 | I55: - | J55: NGC 3628 | K55: =IF(SIN($P$109*P55)<0,ACOS((SIN($P$109*O55)-SIN($P$109*L55)*SIN($P$109*$C$13))/(COS($P$109*L55)*COS($P$109*$C$13)))/$P$109,360-ACOS((SIN($P$109*O55)-SIN($P$109*L55)*SIN($P$109*$C$13))/(COS($P$109*L55)*COS($P$109*$C$13)))/$P$109) -> 347.59582 | L55: =ASIN(SIN($P$109*O55)*SIN($P$109*$C$13)+COS($P$109*O55)*COS($P$109*$C$13)*COS($P$109*P55))/$P$109 -> -29.13179 | M55: Hamburger Galaxy | N55: 11.338056 | O55: 13.588611 | P55: =$C$16-((N55/24)*360) -> 168.86989
B56: no | G56: =IF(AND(L56>=$L$4,L56<=$L$6,K56>=$K$4,K56<=$K$6),IF(VLOOKUP(I56,$C$19:$D$24,2,FALSE)="yes","*","-"),"") | H56: =H55+1 -> 49 | I56: - | J56: Arp 244 | K56: =IF(SIN($P$109*P56)<0,ACOS((SIN($P$109*O56)-SIN($P$109*L56)*SIN($P$109*$C$13))/(COS($P$109*L56)*COS($P$109*$C$13)))/$P$109,360-ACOS((SIN($P$109*O56)-SIN($P$109*L56)*SIN($P$109*$C$13))/(COS($P$109*L56)*COS($P$109*$C$13)))/$P$109) -> 321.52775 | L56: =ASIN(SIN($P$109*O56)*SIN($P$109*$C$13)+COS($P$109*O56)*COS($P$109*$C$13)*COS($P$109*P56))/$P$109 -> -55.686858 | M56: Antennae Galaxy Duo | N56: 12.031389 | O56: -17.131389 | P56: =$C$16-((N56/24)*360) -> 158.46989
G57: =IF(AND(L57>=$L$4,L57<=$L$6,K57>=$K$4,K57<=$K$6),IF(VLOOKUP(I57,$C$19:$D$24,2,FALSE)="yes","*","-"),"") | H57: =H56+1 -> 50 | I57: - | J57: M106 | K57: =IF(SIN($P$109*P57)<0,ACOS((SIN($P$109*O57)-SIN($P$109*L57)*SIN($P$109*$C$13))/(COS($P$109*L57)*COS($P$109*$C$13)))/$P$109,360-ACOS((SIN($P$109*O57)-SIN($P$109*L57)*SIN($P$109*$C$13))/(COS($P$109*L57)*COS($P$109*$C$13)))/$P$109) -> 342.72177 | L57: =ASIN(SIN($P$109*O57)*SIN($P$109*$C$13)+COS($P$109*O57)*COS($P$109*$C$13)*COS($P$109*P57))/$P$109 -> 6.4338123 | M57: M106 Galaxy | N57: 12.316111 | O57: 47.304444 | P57: =$C$16-((N57/24)*360) -> 154.19905
G58: =IF(AND(L58>=$L$4,L58<=$L$6,K58>=$K$4,K58<=$K$6),IF(VLOOKUP(I58,$C$19:$D$24,2,FALSE)="yes","*","-"),"") | H58: =H57+1 -> 51 | I58: - | J58: M86 | K58: =IF(SIN($P$109*P58)<0,ACOS((SIN($P$109*O58)-SIN($P$109*L58)*SIN($P$109*$C$13))/(COS($P$109*L58)*COS($P$109*$C$13)))/$P$109,360-ACOS((SIN($P$109*O58)-SIN($P$109*L58)*SIN($P$109*$C$13))/(COS($P$109*L58)*COS($P$109*$C$13)))/$P$109) -> 329.93572 | L58: =ASIN(SIN($P$109*O58)*SIN($P$109*$C$13)+COS($P$109*O58)*COS($P$109*$C$13)*COS($P$109*P58))/$P$109 -> -25.635097 | M58: Markarian's Chain | N58: 12.436667 | O58: 12.946111 | P58: =$C$16-((N58/24)*360) -> 152.39072
G59: =IF(AND(L59>=$L$4,L59<=$L$6,K59>=$K$4,K59<=$K$6),IF(VLOOKUP(I59,$C$19:$D$24,2,FALSE)="yes","*","-"),"") | H59: =H58+1 -> 52 | I59: - | J59: M104 | K59: =IF(SIN($P$109*P59)<0,ACOS((SIN($P$109*O59)-SIN($P$109*L59)*SIN($P$109*$C$13))/(COS($P$109*L59)*COS($P$109*$C$13)))/$P$109,360-ACOS((SIN($P$109*O59)-SIN($P$109*L59)*SIN($P$109*$C$13))/(COS($P$109*L59)*COS($P$109*$C$13)))/$P$109) -> 313.80186 | L59: =ASIN(SIN($P$109*O59)*SIN($P$109*$C$13)+COS($P$109*O59)*COS($P$109*$C$13)*COS($P$109*P59))/$P$109 -> -45.326973 | M59: Sombrero Galaxy | N59: 12.666389 | O59: -10.376944 | P59: =$C$16-((N59/24)*360) -> 148.94489
G60: =IF(AND(L60>=$L$4,L60<=$L$6,K60>=$K$4,K60<=$K$6),IF(VLOOKUP(I60,$C$19:$D$24,2,FALSE)="yes","*","-"),"") | H60: =H59+1 -> 53 | I60: - | J60: NGC 4631 | K60: =IF(SIN($P$109*P60)<0,ACOS((SIN($P$109*O60)-SIN($P$109*L60)*SIN($P$109*$C$13))/(COS($P$109*L60)*COS($P$109*$C$13)))/$P$109,360-ACOS((SIN($P$109*O60)-SIN($P$109*L60)*SIN($P$109*$C$13))/(COS($P$109*L60)*COS($P$109*$C$13)))/$P$109) -> 333.63563 | L60: =ASIN(SIN($P$109*O60)*SIN($P$109*$C$13)+COS($P$109*O60)*COS($P$109*$C$13)*COS($P$109*P60))/$P$109 -> -6.0200242 | M60: Whale & Hockey Stick Galaxy Duo | N60: 12.702222 | O60: 32.541389 | P60: =$C$16-((N60/24)*360) -> 148.40739
G61: =IF(AND(L61>=$L$4,L61<=$L$6,K61>=$K$4,K61<=$K$6),IF(VLOOKUP(I61,$C$19:$D$24,2,FALSE)="yes","*","-"),"") | H61: =H60+1 -> 54 | I61: - | J61: NGC 4725 | K61: =IF(SIN($P$109*P61)<0,ACOS((SIN($P$109*O61)-SIN($P$109*L61)*SIN($P$109*$C$13))/(COS($P$109*L61)*COS($P$109*$C$13)))/$P$109,360-ACOS((SIN($P$109*O61)-SIN($P$109*L61)*SIN($P$109*$C$13))/(COS($P$109*L61)*COS($P$109*$C$13)))/$P$109) -> 329.24724 | L61: =ASIN(SIN($P$109*O61)*SIN($P$109*$C$13)+COS($P$109*O61)*COS($P$109*$C$13)*COS($P$109*P61))/$P$109 -> -11.858826 | M61: Ringed Galaxy | N61: 12.840833 | O61: 25.500833 | P61: =$C$16-((N61/24)*360) -> 146.32822
G62: =IF(AND(L62>=$L$4,L62<=$L$6,K62>=$K$4,K62<=$K$6),IF(VLOOKUP(I62,$C$19:$D$24,2,FALSE)="yes","*","-"),"") | H62: =H61+1 -> 55 | I62: - | J62: M94 | K62: =IF(SIN($P$109*P62)<0,ACOS((SIN($P$109*O62)-SIN($P$109*L62)*SIN($P$109*$C$13))/(COS($P$109*L62)*COS($P$109*$C$13)))/$P$109,360-ACOS((SIN($P$109*O62)-SIN($P$109*L62)*SIN($P$109*$C$13))/(COS($P$109*L62)*COS($P$109*$C$13)))/$P$109) -> 335.21035 | L62: =ASIN(SIN($P$109*O62)*SIN($P$109*$C$13)+COS($P$109*O62)*COS($P$109*$C$13)*COS($P$109*P62))/$P$109 -> 2.5921668 | M62: Croc's Eye Galaxy | N62: 12.848056 | O62: 41.12 | P62: =$C$16-((N62/24)*360) -> 146.21989
G63: =IF(AND(L63>=$L$4,L63<=$L$6,K63>=$K$4,K63<=$K$6),IF(VLOOKUP(I63,$C$19:$D$24,2,FALSE)="yes","*","-"),"") | H63: =H62+1 -> 56 | I63: - | J63: M64 | K63: =IF(SIN($P$109*P63)<0,ACOS((SIN($P$109*O63)-SIN($P$109*L63)*SIN($P$109*$C$13))/(COS($P$109*L63)*COS($P$109*$C$13)))/$P$109,360-ACOS((SIN($P$109*O63)-SIN($P$109*L63)*SIN($P$109*$C$13))/(COS($P$109*L63)*COS($P$109*$C$13)))/$P$109) -> 326.31957 | L63: =ASIN(SIN($P$109*O63)*SIN($P$109*$C$13)+COS($P$109*O63)*COS($P$109*$C$13)*COS($P$109*P63))/$P$109 -> -14.780203 | M63: Black Eye Galaxy | N63: 12.945556 | O63: 21.682778 | P63: =$C$16-((N63/24)*360) -> 144.75739
G64: =IF(AND(L64>=$L$4,L64<=$L$6,K64>=$K$4,K64<=$K$6),IF(VLOOKUP(I64,$C$19:$D$24,2,FALSE)="yes","*","-"),"") | H64: =H63+1 -> 57 | I64: - | J64: M63 | K64: =IF(SIN($P$109*P64)<0,ACOS((SIN($P$109*O64)-SIN($P$109*L64)*SIN($P$109*$C$13))/(COS($P$109*L64)*COS($P$109*$C$13)))/$P$109,360-ACOS((SIN($P$109*O64)-SIN($P$109*L64)*SIN($P$109*$C$13))/(COS($P$109*L64)*COS($P$109*$C$13)))/$P$109) -> 331.33497 | L64: =ASIN(SIN($P$109*O64)*SIN($P$109*$C$13)+COS($P$109*O64)*COS($P$109*$C$13)*COS($P$109*P64))/$P$109 -> 5.3520717 | M64: Sunflower Galaxy | N64: 13.263611 | O64: 42.029444 | P64: =$C$16-((N64/24)*360) -> 139.98655
G65: =IF(AND(L65>=$L$4,L65<=$L$6,K65>=$K$4,K65<=$K$6),IF(VLOOKUP(I65,$C$19:$D$24,2,FALSE)="yes","*","-"),"") | H65: =H64+1 -> 58 | I65: - | J65: NGC 5128 | K65: =IF(SIN($P$109*P65)<0,ACOS((SIN($P$109*O65)-SIN($P$109*L65)*SIN($P$109*$C$13))/(COS($P$109*L65)*COS($P$109*$C$13)))/$P$109,360-ACOS((SIN($P$109*O65)-SIN($P$109*L65)*SIN($P$109*$C$13))/(COS($P$109*L65)*COS($P$109*$C$13)))/$P$109) -> 260.98151 | L65: =ASIN(SIN($P$109*O65)*SIN($P$109*$C$13)+COS($P$109*O65)*COS($P$109*$C$13)*COS($P$109*P65))/$P$109 -> -60.018031 | M65: Centaurus A | N65: 13.424444 | O65: -42.981111 | P65: =$C$16-((N65/24)*360) -> 137.57405
G66: =IF(AND(L66>=$L$4,L66<=$L$6,K66>=$K$4,K66<=$K$6),IF(VLOOKUP(I66,$C$19:$D$24,2,FALSE)="yes","*","-"),"") | H66: =H65+1 -> 59 | I66: - | J66: NGC 5139 | K66: =IF(SIN($P$109*P66)<0,ACOS((SIN($P$109*O66)-SIN($P$109*L66)*SIN($P$109*$C$13))/(COS($P$109*L66)*COS($P$109*$C$13)))/$P$109,360-ACOS((SIN($P$109*O66)-SIN($P$109*L66)*SIN($P$109*$C$13))/(COS($P$109*L66)*COS($P$109*$C$13)))/$P$109) -> 254.02509 | L66: =ASIN(SIN($P$109*O66)*SIN($P$109*$C$13)+COS($P$109*O66)*COS($P$109*$C$13)*COS($P$109*P66))/$P$109 -> -60.9282 | M66: Omega Centauri | N66: 13.446389 | O66: -46.518611 | P66: =$C$16-((N66/24)*360) -> 137.24489
G67: =IF(AND(L67>=$L$4,L67<=$L$6,K67>=$K$4,K67<=$K$6),IF(VLOOKUP(I67,$C$19:$D$24,2,FALSE)="yes","*","-"),"") | H67: =H66+1 -> 60 | I67: - | J67: M51 | K67: =IF(SIN($P$109*P67)<0,ACOS((SIN($P$109*O67)-SIN($P$109*L67)*SIN($P$109*$C$13))/(COS($P$109*L67)*COS($P$109*$C$13)))/$P$109,360-ACOS((SIN($P$109*O67)-SIN($P$109*L67)*SIN($P$109*$C$13))/(COS($P$109*L67)*COS($P$109*$C$13)))/$P$109) -> 331.51969 | L67: =ASIN(SIN($P$109*O67)*SIN($P$109*$C$13)+COS($P$109*O67)*COS($P$109*$C$13)*COS($P$109*P67))/$P$109 -> 11.0873 | M67: Whirlpool Galaxy | N67: 13.497778 | O67: 47.195833 | P67: =$C$16-((N67/24)*360) -> 136.47405
G68: =IF(AND(L68>=$L$4,L68<=$L$6,K68>=$K$4,K68<=$K$6),IF(VLOOKUP(I68,$C$19:$D$24,2,FALSE)="yes","*","-"),"") | H68: =H67+1 -> 61 | I68: - | J68: Arp 84 | K68: =IF(SIN($P$109*P68)<0,ACOS((SIN($P$109*O68)-SIN($P$109*L68)*SIN($P$109*$C$13))/(COS($P$109*L68)*COS($P$109*$C$13)))/$P$109,360-ACOS((SIN($P$109*O68)-SIN($P$109*L68)*SIN($P$109*$C$13))/(COS($P$109*L68)*COS($P$109*$C$13)))/$P$109) -> 321.87093 | L68: =ASIN(SIN($P$109*O68)*SIN($P$109*$C$13)+COS($P$109*O68)*COS($P$109*$C$13)*COS($P$109*P68))/$P$109 -> 5.3955613 | M68: Heron Galaxies | N68: 13.977222 | O68: 37.425 | P68: =$C$16-((N68/24)*360) -> 129.28239
... G107: =IF(AND(L107>=$L$4,L107<=$L$6,K107>=$K$4,K107<=$K$6),IF(VLOOKUP(I107,$C$19:$D$24,2,FALSE)="yes","*","-"),"") | H107: =H106+1 -> 100 | I107: - | J107: CTB1 | K107: =IF(SIN($P$109*P107)<0,ACOS((SIN($P$109*O107)-SIN($P$109*L107)*SIN($P$109*$C$13))/(COS($P$109*L107)*COS($P$109*$C$13)))/$P$109,360-ACOS((SIN($P$109*O107)-SIN($P$109*L107)*SIN($P$109*$C$13))/(COS($P$109*L107)*COS($P$109*$C$13)))/$P$109) -> 29.128937 | L107: =ASIN(SIN($P$109*O107)*SIN($P$109*$C$13)+COS($P$109*O107)*COS($P$109*$C$13)*COS($P$109*P107))/$P$109 -> 70.057855 | M107: Garlic Nebula | N107: 23.998333 | O107: 62.4475 | P107: =$C$16-((N107/24)*360) -> -21.034279
O109: DtoR | P109: =PI()/180 -> 0.017453293

Sheet Illumination
B2: DtoR | C2: =PI()/180 -> 0.017453293 | F2: Angle | G2: =Illumination!C21 -> 45.71414
B3: T | C3: =(Visibility!C10-2451545)/36525 -> 0.24849646 | F3: # points | G3: 200 | I3: dgr | J3: =MOD(360-Illumination!G2+180,360) -> 134.28586
B4: D | C4: =MOD(297.8502042+445267.1115168*$C$3-0.00163*POWER($C$3,2)+(POWER($C$3,3)/545868)-(POWER($C$3,4)/113065000),360) -> 65.152677 | F4: stepsize | G4: =2/G3 -> 0.01 | I4: cos | J4: =COS(RADIANS(J3)) -> -0.69823864
B5: M | C5: =MOD(357.5291092+35999.0502909*$C$3-0.0001536*POWER($C$3,2)+(POWER($C$3,3)/24490000),360) -> 303.16579 | I5: minor semi axis | J5: =ABS(J4) -> 0.69823864
B6: M' | C6: =MOD(134.9634114+477198.8676313*$C$3+0.008997*POWER($C$3,2)+(POWER($C$3,3)/69699)-(POWER($C$3,4)/14712000),360) -> 277.19501 | I6: major semi axis | J6: 1
B7: i | C7: =180-C4-6.289*SIN($C$2*C6)+2.1*SIN($C$2*C5)-1.274*SIN($C$2*(2*C4-C6))-0.658*SIN($C$2*2*C4)-0.214*SIN($C$2*2*C6)-0.11*SIN($C$2*C4) -> 119.47641
B8: k | C8: =(1+COS($C$2*C7))/2 -> 0.25396744 | F8: x | G8: ellipse | H8: black bottom | I8: transparent | J8: black top
F9: -1 | G9: =IFERROR(IF(SQRT(1-(F9*F9)/($J$5*$J$5))<0.05,0,SQRT(1-(F9*F9)/($J$5*$J$5))),0) -> 0 | H9: =CHOOSE(MATCH($J$3,degrees),IF(F9<0,IFERROR(1-G9,1),0),0,0,IF(F9>0,IFERROR(1-G9,1),0)) -> 0 | I9: =CHOOSE(MATCH($J$3,degrees),IF(F9<0,2*G9,2),IF(F9<0,0,1-G9),IF(F9>0,0,1-G9),IF(F9>0,2*G9,2)) -> 0 | J9: =CHOOSE(MATCH($J$3,degrees),IF(F9<0,G9+1,2),IF(F9<0,2,2*G9),IF(F9>0,2,2*G9),IF(F9>0,G9+1,2)) -> 2
F10: =F9+$G$4 -> -0.99 | G10: =IFERROR(IF(SQRT(1-(F10*F10)/($J$5*$J$5))<0.05,0,SQRT(1-(F10*F10)/($J$5*$J$5))),0) -> 0 | H10: =CHOOSE(MATCH($J$3,degrees),IF(F10<0,IFERROR(1-G10,1),0),0,0,IF(F10>0,IFERROR(1-G10,1),0)) -> 0 | I10: =CHOOSE(MATCH($J$3,degrees),IF(F10<0,2*G10,2),IF(F10<0,0,1-G10),IF(F10>0,0,1-G10),IF(F10>0,2*G10,2)) -> 0 | J10: =CHOOSE(MATCH($J$3,degrees),IF(F10<0,G10+1,2),IF(F10<0,2,2*G10),IF(F10>0,2,2*G10),IF(F10>0,G10+1,2)) -> 2
F11: =F10+$G$4 -> -0.98 | G11: =IFERROR(IF(SQRT(1-(F11*F11)/($J$5*$J$5))<0.05,0,SQRT(1-(F11*F11)/($J$5*$J$5))),0) -> 0 | H11: =CHOOSE(MATCH($J$3,degrees),IF(F11<0,IFERROR(1-G11,1),0),0,0,IF(F11>0,IFERROR(1-G11,1),0)) -> 0 | I11: =CHOOSE(MATCH($J$3,degrees),IF(F11<0,2*G11,2),IF(F11<0,0,1-G11),IF(F11>0,0,1-G11),IF(F11>0,2*G11,2)) -> 0 | J11: =CHOOSE(MATCH($J$3,degrees),IF(F11<0,G11+1,2),IF(F11<0,2,2*G11),IF(F11>0,2,2*G11),IF(F11>0,G11+1,2)) -> 2
F12: =F11+$G$4 -> -0.97 | G12: =IFERROR(IF(SQRT(1-(F12*F12)/($J$5*$J$5))<0.05,0,SQRT(1-(F12*F12)/($J$5*$J$5))),0) -> 0 | H12: =CHOOSE(MATCH($J$3,degrees),IF(F12<0,IFERROR(1-G12,1),0),0,0,IF(F12>0,IFERROR(1-G12,1),0)) -> 0 | I12: =CHOOSE(MATCH($J$3,degrees),IF(F12<0,2*G12,2),IF(F12<0,0,1-G12),IF(F12>0,0,1-G12),IF(F12>0,2*G12,2)) -> 0 | J12: =CHOOSE(MATCH($J$3,degrees),IF(F12<0,G12+1,2),IF(F12<0,2,2*G12),IF(F12>0,2,2*G12),IF(F12>0,G12+1,2)) -> 2
F13: =F12+$G$4 -> -0.96 | G13: =IFERROR(IF(SQRT(1-(F13*F13)/($J$5*$J$5))<0.05,0,SQRT(1-(F13*F13)/($J$5*$J$5))),0) -> 0 | H13: =CHOOSE(MATCH($J$3,degrees),IF(F13<0,IFERROR(1-G13,1),0),0,0,IF(F13>0,IFERROR(1-G13,1),0)) -> 0 | I13: =CHOOSE(MATCH($J$3,degrees),IF(F13<0,2*G13,2),IF(F13<0,0,1-G13),IF(F13>0,0,1-G13),IF(F13>0,2*G13,2)) -> 0 | J13: =CHOOSE(MATCH($J$3,degrees),IF(F13<0,G13+1,2),IF(F13<0,2,2*G13),IF(F13>0,2,2*G13),IF(F13>0,G13+1,2)) -> 2
F14: =F13+$G$4 -> -0.95 | G14: =IFERROR(IF(SQRT(1-(F14*F14)/($J$5*$J$5))<0.05,0,SQRT(1-(F14*F14)/($J$5*$J$5))),0) -> 0 | H14: =CHOOSE(MATCH($J$3,degrees),IF(F14<0,IFERROR(1-G14,1),0),0,0,IF(F14>0,IFERROR(1-G14,1),0)) -> 0 | I14: =CHOOSE(MATCH($J$3,degrees),IF(F14<0,2*G14,2),IF(F14<0,0,1-G14),IF(F14>0,0,1-G14),IF(F14>0,2*G14,2)) -> 0 | J14: =CHOOSE(MATCH($J$3,degrees),IF(F14<0,G14+1,2),IF(F14<0,2,2*G14),IF(F14>0,2,2*G14),IF(F14>0,G14+1,2)) -> 2
F15: =F14+$G$4 -> -0.94 | G15: =IFERROR(IF(SQRT(1-(F15*F15)/($J$5*$J$5))<0.05,0,SQRT(1-(F15*F15)/($J$5*$J$5))),0) -> 0 | H15: =CHOOSE(MATCH($J$3,degrees),IF(F15<0,IFERROR(1-G15,1),0),0,0,IF(F15>0,IFERROR(1-G15,1),0)) -> 0 | I15: =CHOOSE(MATCH($J$3,degrees),IF(F15<0,2*G15,2),IF(F15<0,0,1-G15),IF(F15>0,0,1-G15),IF(F15>0,2*G15,2)) -> 0 | J15: =CHOOSE(MATCH($J$3,degrees),IF(F15<0,G15+1,2),IF(F15<0,2,2*G15),IF(F15>0,2,2*G15),IF(F15>0,G15+1,2)) -> 2
F16: =F15+$G$4 -> -0.93 | G16: =IFERROR(IF(SQRT(1-(F16*F16)/($J$5*$J$5))<0.05,0,SQRT(1-(F16*F16)/($J$5*$J$5))),0) -> 0 | H16: =CHOOSE(MATCH($J$3,degrees),IF(F16<0,IFERROR(1-G16,1),0),0,0,IF(F16>0,IFERROR(1-G16,1),0)) -> 0 | I16: =CHOOSE(MATCH($J$3,degrees),IF(F16<0,2*G16,2),IF(F16<0,0,1-G16),IF(F16>0,0,1-G16),IF(F16>0,2*G16,2)) -> 0 | J16: =CHOOSE(MATCH($J$3,degrees),IF(F16<0,G16+1,2),IF(F16<0,2,2*G16),IF(F16>0,2,2*G16),IF(F16>0,G16+1,2)) -> 2
F17: =F16+$G$4 -> -0.92 | G17: =IFERROR(IF(SQRT(1-(F17*F17)/($J$5*$J$5))<0.05,0,SQRT(1-(F17*F17)/($J$5*$J$5))),0) -> 0 | H17: =CHOOSE(MATCH($J$3,degrees),IF(F17<0,IFERROR(1-G17,1),0),0,0,IF(F17>0,IFERROR(1-G17,1),0)) -> 0 | I17: =CHOOSE(MATCH($J$3,degrees),IF(F17<0,2*G17,2),IF(F17<0,0,1-G17),IF(F17>0,0,1-G17),IF(F17>0,2*G17,2)) -> 0 | J17: =CHOOSE(MATCH($J$3,degrees),IF(F17<0,G17+1,2),IF(F17<0,2,2*G17),IF(F17>0,2,2*G17),IF(F17>0,G17+1,2)) -> 2
F18: =F17+$G$4 -> -0.91 | G18: =IFERROR(IF(SQRT(1-(F18*F18)/($J$5*$J$5))<0.05,0,SQRT(1-(F18*F18)/($J$5*$J$5))),0) -> 0 | H18: =CHOOSE(MATCH($J$3,degrees),IF(F18<0,IFERROR(1-G18,1),0),0,0,IF(F18>0,IFERROR(1-G18,1),0)) -> 0 | I18: =CHOOSE(MATCH($J$3,degrees),IF(F18<0,2*G18,2),IF(F18<0,0,1-G18),IF(F18>0,0,1-G18),IF(F18>0,2*G18,2)) -> 0 | J18: =CHOOSE(MATCH($J$3,degrees),IF(F18<0,G18+1,2),IF(F18<0,2,2*G18),IF(F18>0,2,2*G18),IF(F18>0,G18+1,2)) -> 2
B19: JDEnew moon | C19: 2460438.6 | D19: reference date (08.05.2024) | F19: =F18+$G$4 -> -0.9 | G19: =IFERROR(IF(SQRT(1-(F19*F19)/($J$5*$J$5))<0.05,0,SQRT(1-(F19*F19)/($J$5*$J$5))),0) -> 0 | H19: =CHOOSE(MATCH($J$3,degrees),IF(F19<0,IFERROR(1-G19,1),0),0,0,IF(F19>0,IFERROR(1-G19,1),0)) -> 0 | I19: =CHOOSE(MATCH($J$3,degrees),IF(F19<0,2*G19,2),IF(F19<0,0,1-G19),IF(F19>0,0,1-G19),IF(F19>0,2*G19,2)) -> 0 | J19: =CHOOSE(MATCH($J$3,degrees),IF(F19<0,G19+1,2),IF(F19<0,2,2*G19),IF(F19>0,2,2*G19),IF(F19>0,G19+1,2)) -> 2
B20: delta | C20: =((Visibility!C10-C19)/29.530588853)-INT((Visibility!C10-C19)/29.530588853) -> 0.18657942 | D20: =IF(C20<0.5,"(before FM)","(after FM)") -> (before FM) | F20: =F19+$G$4 -> -0.89 | G20: =IFERROR(IF(SQRT(1-(F20*F20)/($J$5*$J$5))<0.05,0,SQRT(1-(F20*F20)/($J$5*$J$5))),0) -> 0 | H20: =CHOOSE(MATCH($J$3,degrees),IF(F20<0,IFERROR(1-G20,1),0),0,0,IF(F20>0,IFERROR(1-G20,1),0)) -> 0 | I20: =CHOOSE(MATCH($J$3,degrees),IF(F20<0,2*G20,2),IF(F20<0,0,1-G20),IF(F20>0,0,1-G20),IF(F20>0,2*G20,2)) -> 0 | J20: =CHOOSE(MATCH($J$3,degrees),IF(F20<0,G20+1,2),IF(F20<0,2,2*G20),IF(F20>0,2,2*G20),IF(F20>0,G20+1,2)) -> 2
B21: angle | C21: =IF(C20<0.5,180*C8,360-180*C8) -> 45.71414 | F21: =F20+$G$4 -> -0.88 | G21: =IFERROR(IF(SQRT(1-(F21*F21)/($J$5*$J$5))<0.05,0,SQRT(1-(F21*F21)/($J$5*$J$5))),0) -> 0 | H21: =CHOOSE(MATCH($J$3,degrees),IF(F21<0,IFERROR(1-G21,1),0),0,0,IF(F21>0,IFERROR(1-G21,1),0)) -> 0 | I21: =CHOOSE(MATCH($J$3,degrees),IF(F21<0,2*G21,2),IF(F21<0,0,1-G21),IF(F21>0,0,1-G21),IF(F21>0,2*G21,2)) -> 0 | J21: =CHOOSE(MATCH($J$3,degrees),IF(F21<0,G21+1,2),IF(F21<0,2,2*G21),IF(F21>0,2,2*G21),IF(F21>0,G21+1,2)) -> 2
F22: =F21+$G$4 -> -0.87 | G22: =IFERROR(IF(SQRT(1-(F22*F22)/($J$5*$J$5))<0.05,0,SQRT(1-(F22*F22)/($J$5*$J$5))),0) -> 0 | H22: =CHOOSE(MATCH($J$3,degrees),IF(F22<0,IFERROR(1-G22,1),0),0,0,IF(F22>0,IFERROR(1-G22,1),0)) -> 0 | I22: =CHOOSE(MATCH($J$3,degrees),IF(F22<0,2*G22,2),IF(F22<0,0,1-G22),IF(F22>0,0,1-G22),IF(F22>0,2*G22,2)) -> 0 | J22: =CHOOSE(MATCH($J$3,degrees),IF(F22<0,G22+1,2),IF(F22<0,2,2*G22),IF(F22>0,2,2*G22),IF(F22>0,G22+1,2)) -> 2
B23: 0 | C23: 0 | D23: New moon | F23: =F22+$G$4 -> -0.86 | G23: =IFERROR(IF(SQRT(1-(F23*F23)/($J$5*$J$5))<0.05,0,SQRT(1-(F23*F23)/($J$5*$J$5))),0) -> 0 | H23: =CHOOSE(MATCH($J$3,degrees),IF(F23<0,IFERROR(1-G23,1),0),0,0,IF(F23>0,IFERROR(1-G23,1),0)) -> 0 | I23: =CHOOSE(MATCH($J$3,degrees),IF(F23<0,2*G23,2),IF(F23<0,0,1-G23),IF(F23>0,0,1-G23),IF(F23>0,2*G23,2)) -> 0 | J23: =CHOOSE(MATCH($J$3,degrees),IF(F23<0,G23+1,2),IF(F23<0,2,2*G23),IF(F23>0,2,2*G23),IF(F23>0,G23+1,2)) -> 2
B24: =B23+45 -> 45 | C24: =B24-22.5 -> 22.5 | D24: Waxing crescent | F24: =F23+$G$4 -> -0.85 | G24: =IFERROR(IF(SQRT(1-(F24*F24)/($J$5*$J$5))<0.05,0,SQRT(1-(F24*F24)/($J$5*$J$5))),0) -> 0 | H24: =CHOOSE(MATCH($J$3,degrees),IF(F24<0,IFERROR(1-G24,1),0),0,0,IF(F24>0,IFERROR(1-G24,1),0)) -> 0 | I24: =CHOOSE(MATCH($J$3,degrees),IF(F24<0,2*G24,2),IF(F24<0,0,1-G24),IF(F24>0,0,1-G24),IF(F24>0,2*G24,2)) -> 0 | J24: =CHOOSE(MATCH($J$3,degrees),IF(F24<0,G24+1,2),IF(F24<0,2,2*G24),IF(F24>0,2,2*G24),IF(F24>0,G24+1,2)) -> 2
B25: =B24+45 -> 90 | C25: =B25-22.5 -> 67.5 | D25: First quarter | F25: =F24+$G$4 -> -0.84 | G25: =IFERROR(IF(SQRT(1-(F25*F25)/($J$5*$J$5))<0.05,0,SQRT(1-(F25*F25)/($J$5*$J$5))),0) -> 0 | H25: =CHOOSE(MATCH($J$3,degrees),IF(F25<0,IFERROR(1-G25,1),0),0,0,IF(F25>0,IFERROR(1-G25,1),0)) -> 0 | I25: =CHOOSE(MATCH($J$3,degrees),IF(F25<0,2*G25,2),IF(F25<0,0,1-G25),IF(F25>0,0,1-G25),IF(F25>0,2*G25,2)) -> 0 | J25: =CHOOSE(MATCH($J$3,degrees),IF(F25<0,G25+1,2),IF(F25<0,2,2*G25),IF(F25>0,2,2*G25),IF(F25>0,G25+1,2)) -> 2
B26: =B25+45 -> 135 | C26: =B26-22.5 -> 112.5 | D26: Waxing gibbous | F26: =F25+$G$4 -> -0.83 | G26: =IFERROR(IF(SQRT(1-(F26*F26)/($J$5*$J$5))<0.05,0,SQRT(1-(F26*F26)/($J$5*$J$5))),0) -> 0 | H26: =CHOOSE(MATCH($J$3,degrees),IF(F26<0,IFERROR(1-G26,1),0),0,0,IF(F26>0,IFERROR(1-G26,1),0)) -> 0 | I26: =CHOOSE(MATCH($J$3,degrees),IF(F26<0,2*G26,2),IF(F26<0,0,1-G26),IF(F26>0,0,1-G26),IF(F26>0,2*G26,2)) -> 0 | J26: =CHOOSE(MATCH($J$3,degrees),IF(F26<0,G26+1,2),IF(F26<0,2,2*G26),IF(F26>0,2,2*G26),IF(F26>0,G26+1,2)) -> 2
B27: =B26+45 -> 180 | C27: =B27-22.5 -> 157.5 | D27: Full moon | F27: =F26+$G$4 -> -0.82 | G27: =IFERROR(IF(SQRT(1-(F27*F27)/($J$5*$J$5))<0.05,0,SQRT(1-(F27*F27)/($J$5*$J$5))),0) -> 0 | H27: =CHOOSE(MATCH($J$3,degrees),IF(F27<0,IFERROR(1-G27,1),0),0,0,IF(F27>0,IFERROR(1-G27,1),0)) -> 0 | I27: =CHOOSE(MATCH($J$3,degrees),IF(F27<0,2*G27,2),IF(F27<0,0,1-G27),IF(F27>0,0,1-G27),IF(F27>0,2*G27,2)) -> 0 | J27: =CHOOSE(MATCH($J$3,degrees),IF(F27<0,G27+1,2),IF(F27<0,2,2*G27),IF(F27>0,2,2*G27),IF(F27>0,G27+1,2)) -> 2
B28: =B27+45 -> 225 | C28: =B28-22.5 -> 202.5 | D28: Waning gibbous | F28: =F27+$G$4 -> -0.81 | G28: =IFERROR(IF(SQRT(1-(F28*F28)/($J$5*$J$5))<0.05,0,SQRT(1-(F28*F28)/($J$5*$J$5))),0) -> 0 | H28: =CHOOSE(MATCH($J$3,degrees),IF(F28<0,IFERROR(1-G28,1),0),0,0,IF(F28>0,IFERROR(1-G28,1),0)) -> 0 | I28: =CHOOSE(MATCH($J$3,degrees),IF(F28<0,2*G28,2),IF(F28<0,0,1-G28),IF(F28>0,0,1-G28),IF(F28>0,2*G28,2)) -> 0 | J28: =CHOOSE(MATCH($J$3,degrees),IF(F28<0,G28+1,2),IF(F28<0,2,2*G28),IF(F28>0,2,2*G28),IF(F28>0,G28+1,2)) -> 2
B29: =B28+45 -> 270 | C29: =B29-22.5 -> 247.5 | D29: Last quarter | F29: =F28+$G$4 -> -0.8 | G29: =IFERROR(IF(SQRT(1-(F29*F29)/($J$5*$J$5))<0.05,0,SQRT(1-(F29*F29)/($J$5*$J$5))),0) -> 0 | H29: =CHOOSE(MATCH($J$3,degrees),IF(F29<0,IFERROR(1-G29,1),0),0,0,IF(F29>0,IFERROR(1-G29,1),0)) -> 0 | I29: =CHOOSE(MATCH($J$3,degrees),IF(F29<0,2*G29,2),IF(F29<0,0,1-G29),IF(F29>0,0,1-G29),IF(F29>0,2*G29,2)) -> 0 | J29: =CHOOSE(MATCH($J$3,degrees),IF(F29<0,G29+1,2),IF(F29<0,2,2*G29),IF(F29>0,2,2*G29),IF(F29>0,G29+1,2)) -> 2
B30: =B29+45 -> 315 | C30: =B30-22.5 -> 292.5 | D30: Waning crescent | F30: =F29+$G$4 -> -0.79 | G30: =IFERROR(IF(SQRT(1-(F30*F30)/($J$5*$J$5))<0.05,0,SQRT(1-(F30*F30)/($J$5*$J$5))),0) -> 0 | H30: =CHOOSE(MATCH($J$3,degrees),IF(F30<0,IFERROR(1-G30,1),0),0,0,IF(F30>0,IFERROR(1-G30,1),0)) -> 0 | I30: =CHOOSE(MATCH($J$3,degrees),IF(F30<0,2*G30,2),IF(F30<0,0,1-G30),IF(F30>0,0,1-G30),IF(F30>0,2*G30,2)) -> 0 | J30: =CHOOSE(MATCH($J$3,degrees),IF(F30<0,G30+1,2),IF(F30<0,2,2*G30),IF(F30>0,2,2*G30),IF(F30>0,G30+1,2)) -> 2
B31: =B30+45 -> 360 | C31: =B31-22.5 -> 337.5 | D31: New moon | F31: =F30+$G$4 -> -0.78 | G31: =IFERROR(IF(SQRT(1-(F31*F31)/($J$5*$J$5))<0.05,0,SQRT(1-(F31*F31)/($J$5*$J$5))),0) -> 0 | H31: =CHOOSE(MATCH($J$3,degrees),IF(F31<0,IFERROR(1-G31,1),0),0,0,IF(F31>0,IFERROR(1-G31,1),0)) -> 0 | I31: =CHOOSE(MATCH($J$3,degrees),IF(F31<0,2*G31,2),IF(F31<0,0,1-G31),IF(F31>0,0,1-G31),IF(F31>0,2*G31,2)) -> 0 | J31: =CHOOSE(MATCH($J$3,degrees),IF(F31<0,G31+1,2),IF(F31<0,2,2*G31),IF(F31>0,2,2*G31),IF(F31>0,G31+1,2)) -> 2
F32: =F31+$G$4 -> -0.77 | G32: =IFERROR(IF(SQRT(1-(F32*F32)/($J$5*$J$5))<0.05,0,SQRT(1-(F32*F32)/($J$5*$J$5))),0) -> 0 | H32: =CHOOSE(MATCH($J$3,degrees),IF(F32<0,IFERROR(1-G32,1),0),0,0,IF(F32>0,IFERROR(1-G32,1),0)) -> 0 | I32: =CHOOSE(MATCH($J$3,degrees),IF(F32<0,2*G32,2),IF(F32<0,0,1-G32),IF(F32>0,0,1-G32),IF(F32>0,2*G32,2)) -> 0 | J32: =CHOOSE(MATCH($J$3,degrees),IF(F32<0,G32+1,2),IF(F32<0,2,2*G32),IF(F32>0,2,2*G32),IF(F32>0,G32+1,2)) -> 2
F33: =F32+$G$4 -> -0.76 | G33: =IFERROR(IF(SQRT(1-(F33*F33)/($J$5*$J$5))<0.05,0,SQRT(1-(F33*F33)/($J$5*$J$5))),0) -> 0 | H33: =CHOOSE(MATCH($J$3,degrees),IF(F33<0,IFERROR(1-G33,1),0),0,0,IF(F33>0,IFERROR(1-G33,1),0)) -> 0 | I33: =CHOOSE(MATCH($J$3,degrees),IF(F33<0,2*G33,2),IF(F33<0,0,1-G33),IF(F33>0,0,1-G33),IF(F33>0,2*G33,2)) -> 0 | J33: =CHOOSE(MATCH($J$3,degrees),IF(F33<0,G33+1,2),IF(F33<0,2,2*G33),IF(F33>0,2,2*G33),IF(F33>0,G33+1,2)) -> 2
F34: =F33+$G$4 -> -0.75 | G34: =IFERROR(IF(SQRT(1-(F34*F34)/($J$5*$J$5))<0.05,0,SQRT(1-(F34*F34)/($J$5*$J$5))),0) -> 0 | H34: =CHOOSE(MATCH($J$3,degrees),IF(F34<0,IFERROR(1-G34,1),0),0,0,IF(F34>0,IFERROR(1-G34,1),0)) -> 0 | I34: =CHOOSE(MATCH($J$3,degrees),IF(F34<0,2*G34,2),IF(F34<0,0,1-G34),IF(F34>0,0,1-G34),IF(F34>0,2*G34,2)) -> 0 | J34: =CHOOSE(MATCH($J$3,degrees),IF(F34<0,G34+1,2),IF(F34<0,2,2*G34),IF(F34>0,2,2*G34),IF(F34>0,G34+1,2)) -> 2
F35: =F34+$G$4 -> -0.74 | G35: =IFERROR(IF(SQRT(1-(F35*F35)/($J$5*$J$5))<0.05,0,SQRT(1-(F35*F35)/($J$5*$J$5))),0) -> 0 | H35: =CHOOSE(MATCH($J$3,degrees),IF(F35<0,IFERROR(1-G35,1),0),0,0,IF(F35>0,IFERROR(1-G35,1),0)) -> 0 | I35: =CHOOSE(MATCH($J$3,degrees),IF(F35<0,2*G35,2),IF(F35<0,0,1-G35),IF(F35>0,0,1-G35),IF(F35>0,2*G35,2)) -> 0 | J35: =CHOOSE(MATCH($J$3,degrees),IF(F35<0,G35+1,2),IF(F35<0,2,2*G35),IF(F35>0,2,2*G35),IF(F35>0,G35+1,2)) -> 2
F36: =F35+$G$4 -> -0.73 | G36: =IFERROR(IF(SQRT(1-(F36*F36)/($J$5*$J$5))<0.05,0,SQRT(1-(F36*F36)/($J$5*$J$5))),0) -> 0 | H36: =CHOOSE(MATCH($J$3,degrees),IF(F36<0,IFERROR(1-G36,1),0),0,0,IF(F36>0,IFERROR(1-G36,1),0)) -> 0 | I36: =CHOOSE(MATCH($J$3,degrees),IF(F36<0,2*G36,2),IF(F36<0,0,1-G36),IF(F36>0,0,1-G36),IF(F36>0,2*G36,2)) -> 0 | J36: =CHOOSE(MATCH($J$3,degrees),IF(F36<0,G36+1,2),IF(F36<0,2,2*G36),IF(F36>0,2,2*G36),IF(F36>0,G36+1,2)) -> 2
F37: =F36+$G$4 -> -0.72 | G37: =IFERROR(IF(SQRT(1-(F37*F37)/($J$5*$J$5))<0.05,0,SQRT(1-(F37*F37)/($J$5*$J$5))),0) -> 0 | H37: =CHOOSE(MATCH($J$3,degrees),IF(F37<0,IFERROR(1-G37,1),0),0,0,IF(F37>0,IFERROR(1-G37,1),0)) -> 0 | I37: =CHOOSE(MATCH($J$3,degrees),IF(F37<0,2*G37,2),IF(F37<0,0,1-G37),IF(F37>0,0,1-G37),IF(F37>0,2*G37,2)) -> 0 | J37: =CHOOSE(MATCH($J$3,degrees),IF(F37<0,G37+1,2),IF(F37<0,2,2*G37),IF(F37>0,2,2*G37),IF(F37>0,G37+1,2)) -> 2
F38: =F37+$G$4 -> -0.71 | G38: =IFERROR(IF(SQRT(1-(F38*F38)/($J$5*$J$5))<0.05,0,SQRT(1-(F38*F38)/($J$5*$J$5))),0) -> 0 | H38: =CHOOSE(MATCH($J$3,degrees),IF(F38<0,IFERROR(1-G38,1),0),0,0,IF(F38>0,IFERROR(1-G38,1),0)) -> 0 | I38: =CHOOSE(MATCH($J$3,degrees),IF(F38<0,2*G38,2),IF(F38<0,0,1-G38),IF(F38>0,0,1-G38),IF(F38>0,2*G38,2)) -> 0 | J38: =CHOOSE(MATCH($J$3,degrees),IF(F38<0,G38+1,2),IF(F38<0,2,2*G38),IF(F38>0,2,2*G38),IF(F38>0,G38+1,2)) -> 2
F39: =F38+$G$4 -> -0.7 | G39: =IFERROR(IF(SQRT(1-(F39*F39)/($J$5*$J$5))<0.05,0,SQRT(1-(F39*F39)/($J$5*$J$5))),0) -> 0 | H39: =CHOOSE(MATCH($J$3,degrees),IF(F39<0,IFERROR(1-G39,1),0),0,0,IF(F39>0,IFERROR(1-G39,1),0)) -> 0 | I39: =CHOOSE(MATCH($J$3,degrees),IF(F39<0,2*G39,2),IF(F39<0,0,1-G39),IF(F39>0,0,1-G39),IF(F39>0,2*G39,2)) -> 0 | J39: =CHOOSE(MATCH($J$3,degrees),IF(F39<0,G39+1,2),IF(F39<0,2,2*G39),IF(F39>0,2,2*G39),IF(F39>0,G39+1,2)) -> 2
F40: =F39+$G$4 -> -0.69 | G40: =IFERROR(IF(SQRT(1-(F40*F40)/($J$5*$J$5))<0.05,0,SQRT(1-(F40*F40)/($J$5*$J$5))),0) -> 0.15316378 | H40: =CHOOSE(MATCH($J$3,degrees),IF(F40<0,IFERROR(1-G40,1),0),0,0,IF(F40>0,IFERROR(1-G40,1),0)) -> 0 | I40: =CHOOSE(MATCH($J$3,degrees),IF(F40<0,2*G40,2),IF(F40<0,0,1-G40),IF(F40>0,0,1-G40),IF(F40>0,2*G40,2)) -> 0 | J40: =CHOOSE(MATCH($J$3,degrees),IF(F40<0,G40+1,2),IF(F40<0,2,2*G40),IF(F40>0,2,2*G40),IF(F40>0,G40+1,2)) -> 2
F41: =F40+$G$4 -> -0.68 | G41: =IFERROR(IF(SQRT(1-(F41*F41)/($J$5*$J$5))<0.05,0,SQRT(1-(F41*F41)/($J$5*$J$5))),0) -> 0.22706731 | H41: =CHOOSE(MATCH($J$3,degrees),IF(F41<0,IFERROR(1-G41,1),0),0,0,IF(F41>0,IFERROR(1-G41,1),0)) -> 0 | I41: =CHOOSE(MATCH($J$3,degrees),IF(F41<0,2*G41,2),IF(F41<0,0,1-G41),IF(F41>0,0,1-G41),IF(F41>0,2*G41,2)) -> 0 | J41: =CHOOSE(MATCH($J$3,degrees),IF(F41<0,G41+1,2),IF(F41<0,2,2*G41),IF(F41>0,2,2*G41),IF(F41>0,G41+1,2)) -> 2
F42: =F41+$G$4 -> -0.67 | G42: =IFERROR(IF(SQRT(1-(F42*F42)/($J$5*$J$5))<0.05,0,SQRT(1-(F42*F42)/($J$5*$J$5))),0) -> 0.28151333 | H42: =CHOOSE(MATCH($J$3,degrees),IF(F42<0,IFERROR(1-G42,1),0),0,0,IF(F42>0,IFERROR(1-G42,1),0)) -> 0 | I42: =CHOOSE(MATCH($J$3,degrees),IF(F42<0,2*G42,2),IF(F42<0,0,1-G42),IF(F42>0,0,1-G42),IF(F42>0,2*G42,2)) -> 0 | J42: =CHOOSE(MATCH($J$3,degrees),IF(F42<0,G42+1,2),IF(F42<0,2,2*G42),IF(F42>0,2,2*G42),IF(F42>0,G42+1,2)) -> 2
F43: =F42+$G$4 -> -0.66 | G43: =IFERROR(IF(SQRT(1-(F43*F43)/($J$5*$J$5))<0.05,0,SQRT(1-(F43*F43)/($J$5*$J$5))),0) -> 0.32638892 | H43: =CHOOSE(MATCH($J$3,degrees),IF(F43<0,IFERROR(1-G43,1),0),0,0,IF(F43>0,IFERROR(1-G43,1),0)) -> 0 | I43: =CHOOSE(MATCH($J$3,degrees),IF(F43<0,2*G43,2),IF(F43<0,0,1-G43),IF(F43>0,0,1-G43),IF(F43>0,2*G43,2)) -> 0 | J43: =CHOOSE(MATCH($J$3,degrees),IF(F43<0,G43+1,2),IF(F43<0,2,2*G43),IF(F43>0,2,2*G43),IF(F43>0,G43+1,2)) -> 2
... F209: =F208+$G$4 -> 1 | G209: =IFERROR(IF(SQRT(1-(F209*F209)/($J$5*$J$5))<0.05,0,SQRT(1-(F209*F209)/($J$5*$J$5))),0) -> 0 | H209: =CHOOSE(MATCH($J$3,degrees),IF(F209<0,IFERROR(1-G209,1),0),0,0,IF(F209>0,IFERROR(1-G209,1),0)) -> 0 | I209: =CHOOSE(MATCH($J$3,degrees),IF(F209<0,2*G209,2),IF(F209<0,0,1-G209),IF(F209>0,0,1-G209),IF(F209>0,2*G209,2)) -> 1 | J209: =CHOOSE(MATCH($J$3,degrees),IF(F209<0,G209+1,2),IF(F209<0,2,2*G209),IF(F209>0,2,2*G209),IF(F209>0,G209+1,2)) -> 0

Sheet Catalogue
